BEGIN:VCALENDAR
VERSION:2.0
PRODID:-//ChamberMaster//Event Calendar 2.0//EN
METHOD:PUBLISH
X-PUBLISHED-TTL:P3D
REFRESH-INTERVAL:P3D
CALSCALE:GREGORIAN
BEGIN:VEVENT
DTSTART:20250617T220000Z
DTEND:20250617T230000Z
X-MICROSOFT-CDO-ALLDAYEVENT:FALSE
SUMMARY:Ribbon Cutting | Snow Apparel Grand Re-Opening
DESCRIPTION:Join us in celebrating Snow Apparel Grand Re-Opening!\n\nYou're Invited!\n\nTuesday\, June 17th\n\n  3:00 PM   6:00 PM\n\n  Ribbon Cutting Ceremony at 4:00 PM\n\n  At the boutique   520 Main St. Unit B-1  Downtown Longmont\n\nI'm beyond excited to share some wonderful news SNOW Apparel is celebrating a Grand Re-Opening Ribbon Cutting\, and you're warmly invited to be part of it!\n\nThis special afternoon is a celebration of growth\, community\, and all the beautiful changes we've experienced. Whether you've been with us from the beginning or just discovered SNOW\, I'd be honored to share this moment with you.\n\nWhat to Expect:\n\n  New ethically made arrivals from the USA & Canada\n\n  Refreshments + light bites\n\n  Community connection\n\n  Shopping with heart\n\n  Dry Land Distillery cocktails + mocktails (after the ribbon cutting!)\n\n  Outdoor photo moment as we cut the ribbon!\n\n  Great vibes all around \n\nBring a friend and celebrate with us we can't wait to see you!
X-ALT-DESC;FMTTYPE=text/html:Join us in celebrating Snow Apparel Grand Re-Opening!\n<div color:="" font-feature-settings:="" font-kerning:="" font-optical-sizing:="" font-variation-settings:="" helvetica="" margin:="" padding:="" segoe="" ui="" vertical-align:="" web="" west="">\n<p font-size:="" helvetica="" segoe="" style="color: rgb(36\, 36\, 36)\; font-family: " ui="" web="" west=""><strong data-olk-copy-source="MessageBody">You&rsquo\;re Invited!</strong><br />\n<strong>Tuesday\, June 17th</strong><br />\n&#128338\;&nbsp\;<strong>3:00 PM &ndash\; 6:00 PM</strong><br />\n&#127872\;&nbsp\;<strong>Ribbon Cutting Ceremony at 4:00 PM</strong><br />\n&#128205\;&nbsp\;At the boutique &ndash\; 520 Main St. Unit B-1&nbsp\; Downtown Longmont</p>\n\n<p font-size:="" helvetica="" segoe="" style="color: rgb(36\, 36\, 36)\; font-family: " ui="" web="" west="">I&rsquo\;m beyond excited to share some wonderful news&mdash\;<strong>SNOW Apparel is celebrating a Grand Re-Opening Ribbon Cutting\,&nbsp\;</strong>and you&rsquo\;re warmly invited to be part of it!</p>\n\n<p font-size:="" helvetica="" segoe="" style="color: rgb(36\, 36\, 36)\; font-family: " ui="" web="" west="">This special afternoon is a celebration of growth\, community\, and all the beautiful changes we&rsquo\;ve experienced. Whether you&rsquo\;ve been with us from the beginning or just discovered SNOW\, I&rsquo\;d be honored to share this moment with you.</p>\n\n<p font-size:="" helvetica="" segoe="" style="color: rgb(36\, 36\, 36)\; font-family: " ui="" web="" west=""><strong>What to Expect:</strong><br />\n&bull\; New ethically made arrivals from the USA &amp\; Canada<br />\n&bull\; Refreshments + light bites<br />\n&bull\; Community connection<br />\n&bull\; Shopping with heart<br />\n&bull\; Dry Land Distillery cocktails + mocktails (after the ribbon cutting!)<br />\n&bull\; Outdoor photo moment as we cut the ribbon!<br />\n&bull\; Great vibes all around&nbsp\;</p>\n\n<p font-size:="" helvetica="" segoe="" style="color: rgb(36\, 36\, 36)\; font-family: " ui="" web="" west="">Bring a friend and celebrate with us&mdash\;we can&rsquo\;t wait to see you!</p>\n</div>\n
LOCATION:
UID:e.3083.13522
SEQUENCE:3
DTSTAMP:20260421T111515Z
URL:https://members.longmontchamber.org/events/details/ribbon-cutting-snow-apparel-grand-re-opening-13522
END:VEVENT

END:VCALENDAR
