BEGIN:VCALENDAR
VERSION:2.0
PRODID:-//ChamberMaster//Event Calendar 2.0//EN
METHOD:PUBLISH
X-PUBLISHED-TTL:P3D
REFRESH-INTERVAL:P3D
CALSCALE:GREGORIAN
BEGIN:VEVENT
DTSTART:20251014T220000Z
DTEND:20251014T230000Z
X-MICROSOFT-CDO-ALLDAYEVENT:FALSE
SUMMARY:Ribbon Cutting | SouthState Bank
DESCRIPTION:Join us in celebrating SouthState Bank!\n\n\n\nAbout SouthState Bank\n\n\n\nOur Company was founded on the principles of providing innovative\, personalized banking services for all\, making our communities a better place to live\, and supporting our knowledgeable\, experienced bankers. Decades later\, we are still taking measurable steps to continue these initiatives.
X-ALT-DESC;FMTTYPE=text/html:Join us in celebrating SouthState Bank!<br />\n<br />\n<strong>About SouthState Bank</strong><br />\n<!--StartFragment--><br />\nOur Company was founded on the principles of providing innovative\, personalized banking services for all\, making our communities a better place to live\, and supporting our knowledgeable\, experienced bankers. Decades later\, we are still taking measurable steps to continue these initiatives.&nbsp\;<!--EndFragment-->\n<div color:="" font-feature-settings:="" font-kerning:="" font-optical-sizing:="" font-variation-settings:="" helvetica="" margin:="" padding:="" segoe="" ui="" vertical-align:="" web="" west="">\n<p>&nbsp\;</p>\n</div>\n
LOCATION:
UID:e.3083.14243
SEQUENCE:3
DTSTAMP:20260421T052155Z
URL:https://members.longmontchamber.org/events/details/ribbon-cutting-southstate-bank-14243
END:VEVENT

END:VCALENDAR
