BEGIN:VCALENDAR
VERSION:2.0
PRODID:-//ChamberMaster//Event Calendar 2.0//EN
METHOD:PUBLISH
X-PUBLISHED-TTL:P3D
REFRESH-INTERVAL:P3D
CALSCALE:GREGORIAN
BEGIN:VEVENT
DTSTART:20240326T220000Z
DTEND:20240326T230000Z
X-MICROSOFT-CDO-ALLDAYEVENT:FALSE
SUMMARY:Ribbon Cutting | Spice e-Bikes
DESCRIPTION:Join us in celebrating Spice eBikes!\n\n\n\nAbout Spice eBikes:\n\n\n\nShop Local\n\nWe're located right on Main Street in Longmont\, Colorado\, and we have the largest stock of eBikes in the County. We're local\, small\, and spicy. Come check us out!\n\n\n\n\n\nTraining & Community\n\nWe want you to have a great time\, to be safe\, to ride comfortably\, and to keep your eBike running smoothly. Join our spicy little tribe and learn how to get the most out of your adventure! We offer a flavorful rotation of workshops and events.\n\n\n\nOnsite Service\n\nWe have a fully trained service team on site. Your eBike will not be shipped out anywhere and we will service your eBike right here in Longmont. We will customize and service all eBike brands we carry right here in our shop.\n\n\n\n\n\nWoman Owned\n\nAnd Darn Proud of It!! We live proudly in the power of pink and we are focused on the people that walk through our doors.
X-ALT-DESC;FMTTYPE=text/html:Join us in celebrating Spice eBikes!<br />\n<br />\nAbout Spice eBikes:\n<div color:="" font-feature-settings:="" font-kerning:="" font-optical-sizing:="" font-variation-settings:="" helvetica="" margin:="" padding:="" segoe="" ui="" vertical-align:="" web="" west="">\n<div>\n<div>\n<h3>Shop Local</h3>\n\n<p>We&rsquo\;re located right on Main Street in Longmont\, Colorado\, and we have the largest stock of eBikes in the County. We&rsquo\;re local\, small\, and spicy. Come check us out!</p>\n</div>\n</div>\n\n<div>\n<div>\n<h3>Training &amp\; Community</h3>\n\n<p>We want you to have a great time\, to be safe\, to ride comfortably\, and to keep your eBike running smoothly. Join our spicy little tribe and learn how to get the most out of your adventure! We offer a flavorful rotation of workshops and events.</p>\n\n<div>\n<div>\n<h3>Onsite Service</h3>\n\n<p>We have a fully trained service team on site. Your eBike will not be shipped out anywhere and we will service your eBike right here in Longmont. We will customize and service all eBike brands we carry right here in our shop.</p>\n</div>\n</div>\n\n<div>\n<div>\n<h3>Woman Owned</h3>\n\n<p>And Darn Proud of It!! We live proudly in the power of pink and we are focused on the people that walk through our doors.&nbsp\;</p>\n</div>\n</div>\n</div>\n</div>\n</div>\n
LOCATION:
UID:e.3083.10010
SEQUENCE:3
DTSTAMP:20260422T132800Z
URL:https://members.longmontchamber.org/events/details/ribbon-cutting-spice-e-bikes-10010
END:VEVENT

END:VCALENDAR
