BEGIN:VCALENDAR
VERSION:2.0
PRODID:-//ChamberMaster//Event Calendar 2.0//EN
METHOD:PUBLISH
X-PUBLISHED-TTL:P3D
REFRESH-INTERVAL:P3D
CALSCALE:GREGORIAN
BEGIN:VEVENT
DTSTART:20231205T230000Z
DTEND:20231206T000000Z
X-MICROSOFT-CDO-ALLDAYEVENT:FALSE
SUMMARY:Ribbon Cutting | Storytelling and Company
DESCRIPTION:Join us in celebrating Storytelling and Company\, then stay for a complimentary holiday photo shoot!\n\n\n\nAbout Storytelling and Company\n\nHave a clear message on your website to convert browsers into buyers!\n\nA good story can turn your website into a sales machine\, grow your business like never before\, and help you have the best financial year yet. It will also help you connect with people on a deep level. A good story can turn your website into a sales machine\, grow your business like never before\, and help you have the best financial year yet.\n\n\n\nAs a Certified Business Made Simple Coach & StoryBrand Guide\, I can help you execute and create marketing and frameworks that really work. Now you can stop worrying about your business and get back to winning in the marketplace.  Let's grow your business today!
X-ALT-DESC;FMTTYPE=text/html:Join us in celebrating Storytelling and Company\, then stay for a complimentary holiday photo shoot!<br />\n<br />\n<strong>About Storytelling and Company</strong>\n<div color:="" font-feature-settings:="" font-kerning:="" font-optical-sizing:="" font-variation-settings:="" helvetica="" margin:="" padding:="" segoe="" ui="" vertical-align:="" web="" west="">\n<p>Have a clear message on your website to convert browsers into buyers!<br />\nA good story can turn your website into a sales machine\, grow your business like never before\, and help you have the best financial year yet. It will also help you connect with people on a deep level. A good story can turn your website into a sales machine\, grow your business like never before\, and help you have the best financial year yet.<br />\n<br />\nAs a Certified Business Made Simple Coach &amp\; StoryBrand Guide\, I can help you execute and create marketing and frameworks that really work. Now you can stop worrying about your business&nbsp\;and get back to winning in the marketplace. &nbsp\;Let&#39\;s grow your business today!</p>\n</div>\n
LOCATION:Hosted at Longmont Public Media 457 4th Avenue Longmont Colorado
UID:e.3083.9988
SEQUENCE:3
DTSTAMP:20260422T170058Z
URL:https://members.longmontchamber.org/events/details/ribbon-cutting-storytelling-and-company-9988
END:VEVENT

END:VCALENDAR
