BEGIN:VCALENDAR
VERSION:2.0
PRODID:-//ChamberMaster//Event Calendar 2.0//EN
METHOD:PUBLISH
X-PUBLISHED-TTL:P3D
REFRESH-INTERVAL:P3D
CALSCALE:GREGORIAN
BEGIN:VEVENT
DTSTART:20230418T220000Z
DTEND:20230418T230000Z
X-MICROSOFT-CDO-ALLDAYEVENT:FALSE
SUMMARY:Ribbon Cutting | Structure Property Group
DESCRIPTION:Join us in welcoming new member Structure Property Group to the Longmont Chamber community!\n\n\n\nPlease park in the 500 block parking lot or find a parking spot in the available street parking. \n\n\n\nAbout Structure Property Group\n\nCome celebrate the grand opening of powerhouse Longmont real estate brokerage Structure Property Group. Formed last year by the merger of Dyer Realty and Structure Group\, this downtown real estate office boasts a collection of some of the most experienced agents in the area. Come help us toast the awakening of Spring\, warmer weather and the world headquarters of Structure Property Group.
X-ALT-DESC;FMTTYPE=text/html:<br />\nJoin us in welcoming new member Structure Property Group to the Longmont Chamber community!<br />\n<br />\nPlease park in the 500 block parking lot or find a parking spot in the available street parking.&nbsp\;<br />\n<br />\n<strong>About Structure Property Group</strong><br />\nCome celebrate the grand opening of powerhouse Longmont real estate brokerage Structure Property Group. Formed last year by the merger of Dyer Realty and Structure Group\, this downtown real estate office boasts a collection of some of the most experienced agents in the area. Come help us toast the awakening of Spring\, warmer weather and the world headquarters of Structure Property Group.
LOCATION:
UID:e.3083.9658
SEQUENCE:3
DTSTAMP:20260423T052234Z
URL:https://members.longmontchamber.org/events/details/ribbon-cutting-structure-property-group-9658
END:VEVENT

END:VCALENDAR
