BEGIN:VCALENDAR
VERSION:2.0
PRODID:-//ChamberMaster//Event Calendar 2.0//EN
METHOD:PUBLISH
X-PUBLISHED-TTL:P3D
REFRESH-INTERVAL:P3D
CALSCALE:GREGORIAN
BEGIN:VEVENT
DTSTART:20250211T230000Z
DTEND:20250212T000000Z
X-MICROSOFT-CDO-ALLDAYEVENT:FALSE
SUMMARY:Ribbon Cutting | Tacklebox Grant Writing & Butterscotch Studios
DESCRIPTION:Join us for this DUAL Ribbon Cutting\, celebrating Tackle Box Grant Writing and Butterscotch Studios!\n\n\n\nAbout Tackle Box Grant Writing\n\nTackle Box Grant Writing is more than a grant writing service we are a partner in empowerment. Specializing in\, but not limited to\, LGBTQ+\, arts\, and environmental sectors\, we provide comprehensive support\, including funding identification\, compelling proposals\, website design\, and grant readiness.\n\nOur mission is to position organizations for enduring success and meaningful impact. Together\, we navigate funding challenges to create a brighter\, more inclusive future.  https://www.tackleboxgrantwriting.com/\n\n\n\nAbout Butterscotch Studios\n\nButterscotch Studios is a Music and Art Collective in Downtown Longmont. Our goal is to cultivate an art space where creativity thrives and community connections are strengthened. We encourage and empower artists and individuals of all ages and from all backgrounds to express themselves\, learn\, and grow together.  https://www.butterscotchstudios.com/
X-ALT-DESC;FMTTYPE=text/html:Join us for this DUAL Ribbon Cutting\, celebrating Tackle Box Grant Writing and Butterscotch Studios!<br />\n<br />\n<strong>About Tackle Box Grant Writing</strong><br />\nTackle Box Grant Writing is more than a grant writing service&mdash\;we are a partner in empowerment. Specializing in\, but not limited to\, LGBTQ+\, arts\, and environmental sectors\, we provide comprehensive support\, including funding identification\, compelling proposals\, website design\, and grant readiness.<br />\nOur mission is to position organizations for enduring success and meaningful impact. Together\, we navigate funding challenges to create a brighter\, more inclusive future.&nbsp\;&nbsp\;<a href="https://www.tackleboxgrantwriting.com/">https://www.tackleboxgrantwriting.com/</a>\n<div color:="" font-feature-settings:="" font-kerning:="" font-optical-sizing:="" font-variation-settings:="" helvetica="" margin:="" padding:="" segoe="" ui="" vertical-align:="" web="" west="">\n<div><br />\n<strong>About Butterscotch Studios</strong><br />\nButterscotch Studios is a Music and Art Collective in Downtown Longmont. Our goal is to cultivate an art space where creativity thrives and community connections are strengthened. We encourage and empower artists and individuals of all ages and from all backgrounds to express themselves\, learn\, and grow together.&nbsp\;&nbsp\;<a href="https://www.butterscotchstudios.com/">https://www.butterscotchstudios.com/</a></div>\n</div>\n
LOCATION:Butterscotch Studios
UID:e.3083.10743
SEQUENCE:3
DTSTAMP:20260421T174733Z
URL:https://members.longmontchamber.org/events/details/ribbon-cutting-tacklebox-grant-writing-butterscotch-studios-10743
END:VEVENT

END:VCALENDAR
