BEGIN:VCALENDAR
VERSION:2.0
PRODID:-//ChamberMaster//Event Calendar 2.0//EN
METHOD:PUBLISH
X-PUBLISHED-TTL:P3D
REFRESH-INTERVAL:P3D
CALSCALE:GREGORIAN
BEGIN:VEVENT
DTSTART:20221103T220000Z
DTEND:20221103T230000Z
X-MICROSOFT-CDO-ALLDAYEVENT:FALSE
SUMMARY:Ribbon Cutting | Tacos Don Jose
DESCRIPTION:Join us in supporting and welcoming back Chamber member Tacos Don Jose after their remodel!\n\n\n\nAbout Tacos Don Jose\n\nTacos Don Jose has been a staple in the Longmont Community for over a decade. They are a family-owned and operated Mexican restaurant with delicious authentic dishes. \n\nRecently\, their building faced a small fire that gave them the opportunity to remodel their space. Tacos Don Jose is BACK\, looking good\, and tasting just as delicious!\n\n\n\nCome celebrate their return\, with light refreshments and a ribbon cutting!
X-ALT-DESC;FMTTYPE=text/html:Join us in supporting and welcoming back Chamber member Tacos Don Jose after their remodel!<br />\n<br />\n<strong>About Tacos Don Jose</strong><br />\nTacos Don Jose has been a staple in the Longmont Community for over a decade. They are a family-owned&nbsp\;and operated Mexican restaurant with delicious authentic dishes.&nbsp\;<br />\nRecently\, their building faced a small fire that gave them the opportunity to remodel their space. Tacos Don Jose is BACK\, looking good\, and tasting just as delicious!<br />\n<br />\nCome celebrate their return\, with light refreshments and a ribbon cutting!
LOCATION:2255 Main St #103 Longmont\, CO
UID:e.3083.9121
SEQUENCE:3
DTSTAMP:20260423T130956Z
URL:https://members.longmontchamber.org/events/details/ribbon-cutting-tacos-don-jose-9121
END:VEVENT

END:VCALENDAR
