BEGIN:VCALENDAR
VERSION:2.0
PRODID:-//ChamberMaster//Event Calendar 2.0//EN
METHOD:PUBLISH
X-PUBLISHED-TTL:P3D
REFRESH-INTERVAL:P3D
CALSCALE:GREGORIAN
BEGIN:VEVENT
DTSTART:20230919T230000Z
DTEND:20230920T000000Z
X-MICROSOFT-CDO-ALLDAYEVENT:FALSE
SUMMARY:Ribbon Cutting | Take 5 Oil Change
DESCRIPTION:Join us in welcoming new member Take 5 Oil Change to the Longmont Chamber community!\n\n\n\nAbout Take 5\n\nTake 5 is a stay in your car 10-minute oil change. We specialize in efficiency and friendliness. We give out free water\, tire checks\, and fluid top-offs. \n\n\n\nWe are not fans of wasting time.\n\nSo we make sure you're not using too much of yours getting your oil changed or car washed. We work quickly and ef ciently but never cut corners on friendly\, professional experienced service. We treat your car like we'd treat our own. That's why our mission is to have you come back again and again and again. So let us wow you with our speed\, dazzle you with our services\, and impress you with our staff. It will be our pleasure to serve you and your automobile!
X-ALT-DESC;FMTTYPE=text/html:<br />\nJoin us in welcoming new member Take 5 Oil Change to the Longmont Chamber community!<br />\n<br />\n<strong>About Take 5</strong><br />\nTake 5 is a stay in your car 10-minute oil change. We specialize in efficiency and friendliness. We give out free water\, tire checks\, and fluid top-offs.&nbsp\;<br />\n<br />\nWe are not fans of wasting time.\n<div class="MuiTypography-root MuiTypography-body1 css-yvqe9z">\n<p class="MuiTypography-root MuiTypography-body1 MuiTypography-paragraph css-1krz92r">So we make sure you&rsquo\;re not using too much of yours getting your oil changed or car washed. We work quickly and ef&#64257\;ciently but never cut corners on friendly\, professional experienced service. We treat your car like we&rsquo\;d treat our own. That&rsquo\;s why our mission is to have you come back again and again and again. So let us wow you with our speed\, dazzle you with our services\, and impress you with our staff. It will be our pleasure to serve you and your automobile!</p>\n</div>\n
LOCATION:2255 Main Street\, Longmont
UID:e.3083.9936
SEQUENCE:3
DTSTAMP:20260422T215006Z
URL:https://members.longmontchamber.org/events/details/ribbon-cutting-take-5-oil-change-9936
END:VEVENT

END:VCALENDAR
