BEGIN:VCALENDAR
VERSION:2.0
PRODID:-//ChamberMaster//Event Calendar 2.0//EN
METHOD:PUBLISH
X-PUBLISHED-TTL:P3D
REFRESH-INTERVAL:P3D
CALSCALE:GREGORIAN
BEGIN:VEVENT
DTSTART:20250601T220000Z
DTEND:20250601T230000Z
X-MICROSOFT-CDO-ALLDAYEVENT:FALSE
SUMMARY:Ribbon Cutting | Template
DESCRIPTION:Join us in celebrating !\n\n\n\nAbout
X-ALT-DESC;FMTTYPE=text/html:Join us in celebrating !<br />\n<br />\n<strong>About&nbsp\;</strong>\n<div color:="" font-feature-settings:="" font-kerning:="" font-optical-sizing:="" font-variation-settings:="" helvetica="" margin:="" padding:="" segoe="" ui="" vertical-align:="" web="" west="">\n<p>&nbsp\;</p>\n</div>\n
LOCATION:
UID:e.3083.14212
SEQUENCE:3
DTSTAMP:20260421T111011Z
URL:https://members.longmontchamber.org/events/details/ribbon-cutting-template-14212
END:VEVENT

END:VCALENDAR
