BEGIN:VCALENDAR
VERSION:2.0
PRODID:-//ChamberMaster//Event Calendar 2.0//EN
METHOD:PUBLISH
X-PUBLISHED-TTL:P3D
REFRESH-INTERVAL:P3D
CALSCALE:GREGORIAN
BEGIN:VEVENT
DTSTART:20221025T230000Z
DTEND:20221026T000000Z
X-MICROSOFT-CDO-ALLDAYEVENT:FALSE
SUMMARY:Ribbon Cutting | Terri Taydus | Colorado Lifestyles
DESCRIPTION:Join us in welcoming new member Terri Taydus | Colorado Lifestyles to the Longmont Chamber community!\n\n\n\nAbout Terri Taydus | Colorado Lifestyles \n\nI have enjoyed helping home buyers and sellers all throughout Boulder County and the surrounding areas since 2010\, and I am excited to announce my recent transition as an Independent Agent\, and Broker | Owner of Colorado Lifestyles Realty here in Longmont.\n\n\n\nKnowledge of the local market and client satisfaction are my top priorities\; I was voted Boulder County Gold's Top Agent in 2022\, and Longmont's Time's Call Reader's Choice Runner-up in 2022.\n\n\n\nI will continue to work hard to earn the trust of my clients here in Longmont\, throughout Boulder County\, as well as Weld and southern Larimer Counties.
X-ALT-DESC;FMTTYPE=text/html:Join us in welcoming new member Terri Taydus | Colorado Lifestyles to the Longmont Chamber community!<br />\n<br />\n<strong>About Terri Taydus | Colorado Lifestyles&nbsp\;</strong><br />\nI have enjoyed helping home buyers and sellers all throughout Boulder County and the surrounding areas since 2010\, and I am excited to announce my recent transition as an Independent Agent\, and Broker | Owner of Colorado Lifestyles Realty here in Longmont.<br />\n<br />\nKnowledge of the local market and client satisfaction are my top priorities\; I was voted Boulder County Gold&rsquo\;s Top Agent in 2022\, and Longmont&rsquo\;s Time&rsquo\;s Call Reader&rsquo\;s Choice Runner-up in 2022.<br />\n<br />\nI will continue to work hard to earn the trust of my clients here in Longmont\, throughout Boulder County\, as well as Weld and southern Larimer Counties.
LOCATION:Kuper Wine Bar 600 Longs Peak Ave Unit H Longmont\, CO
UID:e.3083.9114
SEQUENCE:3
DTSTAMP:20260423T145118Z
URL:https://members.longmontchamber.org/events/details/ribbon-cutting-terri-taydus-colorado-lifestyles-9114
END:VEVENT

END:VCALENDAR
