BEGIN:VCALENDAR
VERSION:2.0
PRODID:-//ChamberMaster//Event Calendar 2.0//EN
METHOD:PUBLISH
X-PUBLISHED-TTL:P3D
REFRESH-INTERVAL:P3D
CALSCALE:GREGORIAN
BEGIN:VEVENT
DTSTART:20250916T220000Z
DTEND:20250916T230000Z
X-MICROSOFT-CDO-ALLDAYEVENT:FALSE
SUMMARY:Ribbon Cutting | Texas Roadhouse
DESCRIPTION:Join us in celebrating Texas Roadhouse!\n\n\n\nAbout \n\nWe at Texas Roadhouse believe in supporting and giving back to our community.  Especially our schools and youth.  We are one big family!\n\n\n\nIT'S ALL FROM SCRATCH - Legendary Food\, Legendary Service  starts with taking no shortcuts.  We take great pride in every plate we serve\, every time.
X-ALT-DESC;FMTTYPE=text/html:Join us in celebrating Texas Roadhouse!<br />\n<br />\n<strong>About&nbsp\;</strong><br />\nWe at Texas Roadhouse believe in supporting and giving back to our community.&nbsp\; Especially our schools and youth.&nbsp\; We are one big family!<br />\n<br />\nIT&#39\;S ALL FROM SCRATCH - Legendary Food\, Legendary Service&reg\; starts with taking no shortcuts.&nbsp\; We take great pride in every plate we serve\, every time.
LOCATION:
UID:e.3083.13503
SEQUENCE:3
DTSTAMP:20260421T064058Z
URL:https://members.longmontchamber.org/events/details/ribbon-cutting-texas-roadhouse-13503
END:VEVENT

END:VCALENDAR
