BEGIN:VCALENDAR
VERSION:2.0
PRODID:-//ChamberMaster//Event Calendar 2.0//EN
METHOD:PUBLISH
X-PUBLISHED-TTL:P3D
REFRESH-INTERVAL:P3D
CALSCALE:GREGORIAN
BEGIN:VEVENT
DTSTART:20191119T230000Z
DTEND:20191120T000000Z
X-MICROSOFT-CDO-ALLDAYEVENT:FALSE
SUMMARY:Ribbon Cutting: The Advance Longmont Center
DESCRIPTION:Join us in celebrating The Advance Longmont Center!\n\n\n\nRibbon Cuttings are a great way to celebrate our members\, network\, meet fellow Chamber Members and learn something about Longmont businesses.
X-ALT-DESC;FMTTYPE=text/html:Join us in celebrating The Advance Longmont Center!<br />\n<br />\n<span style="color: rgb(0\, 0\, 0)\; font-family: tahoma\; font-size: 14px\;">Ribbon Cuttings are a great way to celebrate our&nbsp\;members\, network\, meet fellow Chamber Members and learn something about Longmont businesses.</span>
LOCATION:1925 Pike Road\, Ste 202 Longmont\, CO 80501
UID:e.3083.7333
SEQUENCE:3
DTSTAMP:20260425T233143Z
URL:https://members.longmontchamber.org/events/details/ribbon-cutting-the-advance-longmont-center-7333
END:VEVENT

END:VCALENDAR
