BEGIN:VCALENDAR
VERSION:2.0
PRODID:-//ChamberMaster//Event Calendar 2.0//EN
METHOD:PUBLISH
X-PUBLISHED-TTL:P3D
REFRESH-INTERVAL:P3D
CALSCALE:GREGORIAN
BEGIN:VEVENT
DTSTART:20220520T220000Z
DTEND:20220520T230000Z
X-MICROSOFT-CDO-ALLDAYEVENT:FALSE
SUMMARY:Ribbon Cutting | The Courtyard\, Residence Inn\, and SpringHill Suites by Marriott Boulder-Longmont
DESCRIPTION:Join us in welcoming new member the Courtyard\, Residence Inn\, and SpringHill Suites by Marriott Boulder-Longmont to the Longmont Chamber community!\n\n\n\nAbout Courtyard\, Residence Inn\, and SpringHill Suites by Marriott Boulder-Longmont\n\nRelax at the Courtyard\, Residence Inn\, and SpringHill Suites by Marriott Boulder-Longmont. Our hotels offer little extras that add up to an exceptional stay. Relax in our spacious suites with free Wi-Fi\, plush bedding\, large workspaces\, and stunning mountain views.
X-ALT-DESC;FMTTYPE=text/html:Join us in welcoming new member the Courtyard\, Residence Inn\, and SpringHill Suites by Marriott Boulder-Longmont to the Longmont Chamber community!<br />\n<br />\n<strong>About&nbsp\;Courtyard\, Residence Inn\, and SpringHill Suites by Marriott Boulder-Longmont</strong><br />\nRelax at the Courtyard\, Residence Inn\, and SpringHill Suites by Marriott Boulder-Longmont. Our hotels offer little extras that add up to an exceptional stay. Relax in our spacious suites with free Wi-Fi\, plush bedding\, large workspaces\, and stunning mountain views.
LOCATION:Residence Inn by Marriott Boulder-Longmont 1450 Dry Creek Drive Longmont\, CO
UID:e.3083.8681
SEQUENCE:3
DTSTAMP:20260424T000456Z
URL:https://members.longmontchamber.org/events/details/ribbon-cutting-the-courtyard-residence-inn-and-springhill-suites-by-marriott-boulder-longmont-8681
END:VEVENT

END:VCALENDAR
