BEGIN:VCALENDAR
VERSION:2.0
PRODID:-//ChamberMaster//Event Calendar 2.0//EN
METHOD:PUBLISH
X-PUBLISHED-TTL:P3D
REFRESH-INTERVAL:P3D
CALSCALE:GREGORIAN
BEGIN:VEVENT
DTSTART:20250405T173000Z
DTEND:20250405T183000Z
X-MICROSOFT-CDO-ALLDAYEVENT:FALSE
SUMMARY:Ribbon Cutting | The Drawing Table | Vintage Vibes Unique Designs
DESCRIPTION:Join us in celebrating at Old Town Marketplace - The Drawing Table and Vintage Vibes Unique Designs!\n\n\n\nAbout The Drawing Table\n\n\n\nHi! My name is Jen and I am the owner of The Drawing Table.  I find the most joy when I make things\, express myself creatively\, and gather with other people doing the same.  My goal is to provide a non judgemental\, safe space for people to gather\, express themselves\, learn some new skills\, and spend time with one another.  It is also a space to sell and celebrate the timeworn\, unique\, and handmade. Come check out what we have and note that inventory is limited!  We can't wait to see you!\n\n\n\nAbout Vintage Vibes Unique Designs\n\n\n\nDiscover a world of vintage and rare items at our store - where every item has a story and every visit feels like a journey through time!  Nestled in the charming heart of Longmont\, at 332 Main Street\, our store was founded with a passion for preserving the beauty and nostalgia of the past.  Come explore our unique collectibles\, as we celebrate our new location!
X-ALT-DESC;FMTTYPE=text/html:Join us in celebrating at Old Town Marketplace - The Drawing Table and Vintage Vibes Unique Designs!<br />\n<br />\n<strong>About The Drawing Table</strong><br />\n<br />\nHi! My name is Jen and I am the owner of The Drawing Table.&nbsp\; I find the most joy when I make things\, express myself creatively\, and gather with other people doing the same.&nbsp\; My goal is to provide a non judgemental\, safe space for people to gather\, express themselves\, learn some new skills\, and spend time with one another.&nbsp\; It is also a space to sell and celebrate the timeworn\, unique\, and handmade. Come check out what we have and note that inventory is limited!&nbsp\; We can&#39\;t wait to see you!<br />\n<br />\n<strong>About Vintage Vibes Unique Designs</strong><br />\n<br />\nDiscover a world of vintage and rare items at our store -&nbsp\;where every item has a story and every visit feels like a journey through time!&nbsp\; Nestled in the charming heart of Longmont\, at 332 Main Street\, our store was founded with a passion for preserving the beauty and nostalgia of the past.&nbsp\; Come explore our unique collectibles\, as we celebrate our new location!
LOCATION:Old Town Marketplace
UID:e.3083.12686
SEQUENCE:3
DTSTAMP:20260421T160541Z
URL:https://members.longmontchamber.org/events/details/ribbon-cutting-the-drawing-table-vintage-vibes-unique-designs-12686
END:VEVENT

END:VCALENDAR
