BEGIN:VCALENDAR
VERSION:2.0
PRODID:-//ChamberMaster//Event Calendar 2.0//EN
METHOD:PUBLISH
X-PUBLISHED-TTL:P3D
REFRESH-INTERVAL:P3D
CALSCALE:GREGORIAN
BEGIN:VEVENT
DTSTART:20240517T200000Z
DTEND:20240517T213000Z
X-MICROSOFT-CDO-ALLDAYEVENT:FALSE
SUMMARY:Ribbon Cutting | The Granary Townhomes
DESCRIPTION:Join us in celebrating The Granary Townhomes!\n\n\n\nAbout The Granary Townhomes\n\nThe Granary Townhomes consist of 20 NEW three-story\, urban lifestyle rental units with attached garages located at South Main in Old Town Longmont\, Colorado.\n\nSteps from Longmont's thriving Main Street and situated in the epicenter of some of the area's hippest\, hottest new gathering places. the Granary Townhomes are the answer to all-inclusive downtown living \n\n\n\nSo get ready to pack your gear\, grab your pet\, and tell your friends that you're moving IN.
X-ALT-DESC;FMTTYPE=text/html:Join us in celebrating The Granary Townhomes!<br />\n<br />\n<strong>About The Granary Townhomes</strong>\n<div color:="" font-feature-settings:="" font-kerning:="" font-optical-sizing:="" font-variation-settings:="" helvetica="" margin:="" padding:="" segoe="" ui="" vertical-align:="" web="" west="">\n<p>The Granary Townhomes consist of 20 NEW three-story\, urban lifestyle rental units with attached garages located at South Main in Old Town Longmont\, Colorado.</p>\n\n<p>Steps from Longmont&rsquo\;s thriving Main Street and situated in the epicenter of some of the area&rsquo\;s hippest\, hottest new gathering places. the Granary Townhomes are the answer to all-inclusive downtown living&hellip\;<br />\n<br />\nSo get ready to pack your gear\, grab your pet\, and tell your friends that you&rsquo\;re moving IN.</p>\n</div>\n
LOCATION:
UID:e.3083.10091
SEQUENCE:3
DTSTAMP:20260422T090834Z
URL:https://members.longmontchamber.org/events/details/ribbon-cutting-the-granary-townhomes-10091
END:VEVENT

END:VCALENDAR
