BEGIN:VCALENDAR
VERSION:2.0
PRODID:-//ChamberMaster//Event Calendar 2.0//EN
METHOD:PUBLISH
X-PUBLISHED-TTL:P3D
REFRESH-INTERVAL:P3D
CALSCALE:GREGORIAN
BEGIN:VEVENT
DTSTART:20231215T230000Z
DTEND:20231216T000000Z
X-MICROSOFT-CDO-ALLDAYEVENT:FALSE
SUMMARY:Ribbon Cutting | The Juicy Seafood
DESCRIPTION:Join us in celebrating The Juicy Seafood!\n\n\n\n Aren Chen is the owner and no stranger to delivering a delicious dining experience\, as he also owns Longmont's Sumo Sushi restaurant.\n\n\n\nCome celebrate this long-time chamber member in his newest endeavor!\n\n\n\nAbout The Juicy Seafood\n\nThe Juicy Seafood\, It's Always Fresh! It's Always Juicy! Serving fresh\, delicious seafood in a variety of flavorful sauces. Anyone can enjoy our welcoming atmosphere and fun\, interactive dining experience.\n\nTry fish & chip or crab & lobster during lunch or dinner. Your quest for fun and fresh seafood starts here.
X-ALT-DESC;FMTTYPE=text/html:Join us in celebrating The Juicy Seafood!<br />\n<br />\n&nbsp\;Aren Chen is the owner and&nbsp\;no stranger to delivering a delicious dining experience\, as he also owns Longmont&#39\;s Sumo Sushi restaurant.<br />\n<br />\nCome celebrate this long-time chamber member in his newest endeavor!<br />\n<br />\n<strong>About The Juicy Seafood</strong>\n<div color:="" font-feature-settings:="" font-kerning:="" font-optical-sizing:="" font-variation-settings:="" helvetica="" margin:="" padding:="" segoe="" ui="" vertical-align:="" web="" west="">\n<p>The Juicy Seafood\, It&#39\;s Always Fresh! It&#39\;s Always Juicy! Serving fresh\, delicious seafood in a variety of flavorful sauces. Anyone can enjoy our welcoming atmosphere and fun\, interactive dining experience.<br />\nTry&nbsp\;fish &amp\; chip or crab &amp\; lobster during lunch or dinner. Your quest for fun and fresh seafood starts here.</p>\n</div>\n
LOCATION:2341 Clover Basin Drive Longmont Colorado
UID:e.3083.9999
SEQUENCE:3
DTSTAMP:20260422T170056Z
URL:https://members.longmontchamber.org/events/details/ribbon-cutting-the-juicy-seafood-9999
END:VEVENT

END:VCALENDAR
