BEGIN:VCALENDAR
VERSION:2.0
PRODID:-//ChamberMaster//Event Calendar 2.0//EN
METHOD:PUBLISH
X-PUBLISHED-TTL:P3D
REFRESH-INTERVAL:P3D
CALSCALE:GREGORIAN
BEGIN:VEVENT
DTSTART:20231003T230000Z
DTEND:20231004T000000Z
X-MICROSOFT-CDO-ALLDAYEVENT:FALSE
SUMMARY:Ribbon Cutting | The Kiva Center
DESCRIPTION:Join us in welcoming new member The Kiva Center to the Longmont Chamber community!\n\n\n\nAbout The Kiva Center \n\nThe Kiva Center builds confidence and self-esteem in youth through nature connections. Our approach is to provide transformational educational experiences and a place of community and belonging for diverse learners. Kiva Center partners with schools and farms across the Boulder/Denver area to create programming focused on making actual change in their communities. We create high-quality\, immersive programs that leave the participants more deeply connected to their unique nature as well as the big Nature. Just as we value the unique gifts of each of our students\, we too offer unique programming you can't find anywhere else. We balance free time to explore with structured learning. We balance content with socio-emotional learning. We highly value community and creating a sense of belonging. Many students report that Kiva is the only place they feel safe and encouraged to be their authentic selves. We have an outdoor homeschool enrichment program\, in-school programming\, and after-school programming across Longmont and the Front Range.
X-ALT-DESC;FMTTYPE=text/html:Join us in welcoming new member The Kiva Center to the Longmont Chamber community!<br />\n<br />\n<strong>About The Kiva Center&nbsp\;</strong><br />\nThe Kiva Center builds confidence and self-esteem in youth through nature connections. Our approach is to provide transformational educational experiences and a place of community and belonging for diverse learners. Kiva Center partners with schools and farms across the Boulder/Denver area to create programming focused on making actual change in their communities. We create high-quality\, immersive programs that leave the participants more deeply connected to their unique nature as well as the big Nature. Just as we value the unique gifts of each of our students\, we too offer unique programming you can&rsquo\;t find anywhere else. We balance free time to explore with structured learning. We balance content with socio-emotional learning. We highly value community and creating a sense of belonging. Many students report that Kiva is the only place they feel safe and encouraged to be their authentic selves. We have an outdoor homeschool enrichment program\, in-school programming\, and after-school programming across Longmont and the Front Range.
LOCATION:
UID:e.3083.9926
SEQUENCE:3
DTSTAMP:20260422T215257Z
URL:https://members.longmontchamber.org/events/details/ribbon-cutting-the-kiva-center-9926
END:VEVENT

END:VCALENDAR
