BEGIN:VCALENDAR
VERSION:2.0
PRODID:-//ChamberMaster//Event Calendar 2.0//EN
METHOD:PUBLISH
X-PUBLISHED-TTL:P3D
REFRESH-INTERVAL:P3D
CALSCALE:GREGORIAN
BEGIN:VEVENT
DTSTART:20231102T220000Z
DTEND:20231102T230000Z
X-MICROSOFT-CDO-ALLDAYEVENT:FALSE
SUMMARY:Ribbon Cutting | The Local Drive
DESCRIPTION:Join us in welcoming The Local Drive - Longmont?s first indoor golf facility & cocktail bar located downtown\, next to South Main Station. Featuring 3 Trackman simulators\, The Local Drive has you covered rain or shine\, sun or snow! Join us for a Ribbon Cutting celebrating their Grand Opening\, with drink specials\, free golf and prize give aways!\n\n\n\nAbout The Local Drive\n\nThe Local Drive is the premier cocktail bar & golf lounge featuring a menu of cocktails made with local spirits as well as local beers\, seltzers\, ciders\, and wine. The Local Drive has custom indoor Trackman golf simulators as well as multiple private event spaces. Are you ready for an elevated golf experience?
X-ALT-DESC;FMTTYPE=text/html:<span style="font-family:tahoma\;">Join us in welcoming The Local Drive</span> -&nbsp\;<span style="font-family:tahoma\;"><span style="color: rgb(103\, 103\, 103)\;">Longmont?s first indoor golf facility &amp\; cocktail bar located downtown\, next to South Main Station. Featuring 3 Trackman simulators\, The Local Drive has you covered rain or shine\, sun or snow! Join us for a Ribbon Cutting celebrating their Grand Opening\, with drink specials\, free golf and prize give aways!</span></span><br>\n<br>\n<span style="font-size:14px\;"><span style="font-family:tahoma\;"><strong>About The Local Drive</strong></span></span><br>\n<span style="font-family:tahoma\;"><span style="color: rgb(103\, 103\, 103)\; font-size: 16px\;"><span style="font-size:14px\;">The Local Drive is the premier cocktail bar &amp\; golf lounge featuring a menu of cocktails made with local spirits as well as local beers\, seltzers\, ciders\, and wine. The Local Drive has</span> <span style="font-size:14px\;">custom indoor Trackman golf simulators as well as multiple private event spaces. Are you ready for an elevated golf experience?</span></span></span>
LOCATION:110 Emery Street Longmont\, CO 80501
UID:e.3083.9974
SEQUENCE:3
DTSTAMP:20260422T183117Z
URL:https://members.longmontchamber.org/events/details/ribbon-cutting-the-local-drive-9974
END:VEVENT

END:VCALENDAR
