BEGIN:VCALENDAR
VERSION:2.0
PRODID:-//ChamberMaster//Event Calendar 2.0//EN
METHOD:PUBLISH
X-PUBLISHED-TTL:P3D
REFRESH-INTERVAL:P3D
CALSCALE:GREGORIAN
BEGIN:VEVENT
DTSTART:20240523T220000Z
DTEND:20240523T230000Z
X-MICROSOFT-CDO-ALLDAYEVENT:FALSE
SUMMARY:Ribbon Cutting | The Longmont Social
DESCRIPTION:Join us in celebrating The Longmont Social!\n\n\n\nAbout The Longmont Social\n\nHere at the Longmont Social\, there is something fun for everyone!  Where work meets entertainment\, from indoor corn hole\, axe- throwing\, golf simulators\, tap house that serves Colorado craft beers and more\, or just come sit back and relax because we have it all! From work to play we have you covered!\n\n\n\nOur own Nexus Young Professionals group will be holding their May social at this location following our Ribbon Cutting.  We don't often get to put all of our groups together\, please  - stay to play!  Meet some of our up and coming business professionals!
X-ALT-DESC;FMTTYPE=text/html:Join us in celebrating The Longmont Social!<br />\n<br />\n<strong>About The Longmont Social</strong>\n<div color:="" font-feature-settings:="" font-kerning:="" font-optical-sizing:="" font-variation-settings:="" helvetica="" margin:="" padding:="" segoe="" ui="" vertical-align:="" web="" west="">\n<p>Here at the Longmont Social\, there is something fun for everyone! &nbsp\;Where work meets entertainment\, from indoor corn hole\, axe- throwing\, golf simulators\, tap house that serves Colorado craft beers and more\, or just come sit back and relax because we have it all! From work to play we have you covered!<br />\n<br />\nOur own Nexus Young Professionals group will be holding their May social at this location following our Ribbon Cutting.&nbsp\; We don&#39\;t often get to put all of our groups together\,&nbsp\;please&nbsp\; - stay to play!&nbsp\; Meet some of our up and coming business professionals!</p>\n</div>\n
LOCATION:
UID:e.3083.10096
SEQUENCE:3
DTSTAMP:20260422T090823Z
URL:https://members.longmontchamber.org/events/details/ribbon-cutting-the-longmont-social-10096
END:VEVENT

END:VCALENDAR
