BEGIN:VCALENDAR
VERSION:2.0
PRODID:-//ChamberMaster//Event Calendar 2.0//EN
METHOD:PUBLISH
X-PUBLISHED-TTL:P3D
REFRESH-INTERVAL:P3D
CALSCALE:GREGORIAN
BEGIN:VEVENT
DTSTART:20251108T160000Z
DTEND:20251108T170000Z
X-MICROSOFT-CDO-ALLDAYEVENT:FALSE
SUMMARY:Ribbon Cutting | The Nest Schools
DESCRIPTION:Join us in celebrating The Nest Schools Longmont!\n\n\n\nAbout Nest Schools Longmont\n\n\n\nWe offer nurturing\, play based programs backed by the latest research in early childhood education.  Our program serves children ages 6 weeks to age 12.  Every child in our care is supported by a warm\, dedicated team focused on kindness and wellness who take an innovative and fun approach to sparking a lifelong love of learning.  Discover why so many families trust The Nest as a partner in their child's growth\, learning\, and happiness.
X-ALT-DESC;FMTTYPE=text/html:Join us in celebrating The Nest Schools Longmont!<br />\n<br />\n<strong>About Nest Schools Longmont</strong><br />\n<br />\nWe offer nurturing\, play based programs backed by the latest research in early childhood education.&nbsp\; Our program serves children ages 6 weeks to age 12.&nbsp\;&nbsp\;Every child in our care is supported by a warm\, dedicated team focused on kindness and wellness who take an innovative and fun approach to sparking a lifelong love of learning.&nbsp\;&nbsp\;Discover why so many families trust The Nest as a partner in their child&rsquo\;s growth\, learning\, and happiness.
LOCATION:
UID:e.3083.14468
SEQUENCE:3
DTSTAMP:20260421T033436Z
URL:https://members.longmontchamber.org/events/details/ribbon-cutting-the-nest-schools-14468
END:VEVENT

END:VCALENDAR
