BEGIN:VCALENDAR
VERSION:2.0
PRODID:-//ChamberMaster//Event Calendar 2.0//EN
METHOD:PUBLISH
X-PUBLISHED-TTL:P3D
REFRESH-INTERVAL:P3D
CALSCALE:GREGORIAN
BEGIN:VEVENT
DTSTART:20240220T230000Z
DTEND:20240221T000000Z
X-MICROSOFT-CDO-ALLDAYEVENT:FALSE
SUMMARY:Ribbon Cutting |The Passenger
DESCRIPTION:Big News from Your Favorite Culinary Destination! \n\nWe're evolving and we're thrilled to share our journey with you!\n\n\n\nIntroducing "The Passenger"\, (formerly Roots) a new name that marks a bold step in our mission to bring you an enhanced dining experience. \n\n\n\n"The Passenger" launched on Tuesday\, January 23rd\, 300 Main St\, Longmont CO  80501.\n\n\n\nWhat's New? Our concept is taking off to exciting heights! While we continue to cherish local food favorites\, we're expanding our horizons to bring you more adventurous\, global cuisine. Think of it as a culinary exploration that starts right at your table.\n\n\n\nWhy "The Passenger"? Because every meal with us is a journey. We're not just changing our name\; we're deepening our commitment to take you on a flavorful adventure\, blending the familiar with the exotic.\n\n\n\nJoin the Adventure! We're more excited than ever to serve up new experiences and flavors. Your seat at The Passenger awaits!
X-ALT-DESC;FMTTYPE=text/html:<p class="x_MsoNormal" style="color: rgb(36\, 36\, 36)\; margin: 0in 0in 12pt\; font-size: 11pt\; font-family: Aptos\, sans-serif\;"><span style="border: 0px\; font-style: inherit\; font-variant: inherit\; font-weight: inherit\; font-stretch: inherit\; font-size: 10pt\; line-height: inherit\; font-family: Arial\, sans-serif\; font-optical-sizing: inherit\; font-kerning: inherit\; font-feature-settings: inherit\; font-variation-settings: inherit\; margin: 0px\; padding: 0px\; vertical-align: baseline\; color: rgb(51\, 51\, 51)\;">Big News from Your Favorite Culinary Destination!&nbsp\;</span></p>\n\n<p class="x_MsoNormal" data-event-added="1" style="color: rgb(36\, 36\, 36)\; margin: 0in\; font-size: 11pt\; font-family: Aptos\, sans-serif\;"><span style="border: 0px\; font-style: inherit\; font-variant: inherit\; font-weight: inherit\; font-stretch: inherit\; font-size: 10pt\; line-height: inherit\; font-family: Arial\, sans-serif\; font-optical-sizing: inherit\; font-kerning: inherit\; font-feature-settings: inherit\; font-variation-settings: inherit\; margin: 0px\; padding: 0px\; vertical-align: baseline\; color: rgb(51\, 51\, 51)\;">We&#39\;re evolving and we&#39\;re thrilled to share our journey with you!<br />\n<br />\nIntroducing &quot\;The Passenger&quot\;\, (formerly Roots) a new name that marks a bold step in our mission to bring you an enhanced dining experience.&nbsp\;<br aria-hidden="true" />\n<br />\n&quot\;The Passenger&quot\; launched on Tuesday\, January 23rd\,&nbsp\;<span class="HQEo7" data-markjs="true" role="link" style="border-width: 0px 0px 1px\; border-top-style: initial\; border-right-style: initial\; border-bottom-style: dashed\; border-left-style: initial\; border-top-color: initial\; border-right-color: initial\; border-bottom-color: var(--themePrimary)\; border-left-color: initial\; border-image: initial\; font: inherit\; margin: 0px\; padding: 1px 0px\; vertical-align: baseline\; color: var(--themePrimary)\; cursor: pointer\;" tabindex="0">300 Main St\, Longmont CO&nbsp\; 80501</span>.<br aria-hidden="true" />\n<br />\nWhat&#39\;s New? Our concept is taking off to exciting heights! While we continue to cherish local food favorites\, we&#39\;re expanding our horizons to bring you more adventurous\, global cuisine. Think of it as a culinary exploration that starts right at your table.</span><br aria-hidden="true" />\n<br />\n<span style="border: 0px\; font-style: inherit\; font-variant: inherit\; font-weight: inherit\; font-stretch: inherit\; font-size: 10pt\; line-height: inherit\; font-family: Arial\, sans-serif\; font-optical-sizing: inherit\; font-kerning: inherit\; font-feature-settings: inherit\; font-variation-settings: inherit\; margin: 0px\; padding: 0px\; vertical-align: baseline\; color: rgb(51\, 51\, 51)\;">Why &quot\;The Passenger&quot\;? Because every meal with us is a journey. We&#39\;re not just changing our name\; we&#39\;re deepening our commitment to take you on a flavorful adventure\, blending the familiar with the exotic.</span><br aria-hidden="true" />\n<br />\n<span style="border: 0px\; font-style: inherit\; font-variant: inherit\; font-weight: inherit\; font-stretch: inherit\; font-size: 10pt\; line-height: inherit\; font-family: Arial\, sans-serif\; font-optical-sizing: inherit\; font-kerning: inherit\; font-feature-settings: inherit\; font-variation-settings: inherit\; margin: 0px\; padding: 0px\; vertical-align: baseline\; color: rgb(51\, 51\, 51)\;">Join the Adventure! We&#39\;re more excited than ever to serve up new experiences and flavors. Your seat at The Passenger awaits!</span></p>\n\n<div>&nbsp\;</div>\n
LOCATION:300 Main Street
UID:e.3083.10014
SEQUENCE:3
DTSTAMP:20260422T132933Z
URL:https://members.longmontchamber.org/events/details/ribbon-cutting-the-passenger-10014
END:VEVENT

END:VCALENDAR
