BEGIN:VCALENDAR
VERSION:2.0
PRODID:-//ChamberMaster//Event Calendar 2.0//EN
METHOD:PUBLISH
X-PUBLISHED-TTL:P3D
REFRESH-INTERVAL:P3D
CALSCALE:GREGORIAN
BEGIN:VEVENT
DTSTART:20250909T220000Z
DTEND:20250909T230000Z
X-MICROSOFT-CDO-ALLDAYEVENT:FALSE
SUMMARY:Ribbon Cutting | The Quill & Candle Bookshop
DESCRIPTION:Join us in celebrating The Quill & Candle Bookshop!\n\n\n\nAbout The Quill & Candle Bookshop\n\n\n\nAnnouncing the grand opening of The Quill & Candle Bookshop!  We are a cozy\, independent\, woman-owned bookshop in Prospect New Town focusing on curated collections of fiction and children's literature.  In addition to books we have stocked book-themed gifts\, notebooks\, a unique selection of games\, puzzles\, toys\, and candles.  We can't wait to see you and show you all the wonderful things we have to offer.
X-ALT-DESC;FMTTYPE=text/html:Join us in celebrating The Quill &amp\; Candle Bookshop!<br />\n<br />\n<strong>About The Quill &amp\; Candle Bookshop</strong><br />\n<br />\nAnnouncing the grand opening of The Quill &amp\; Candle Bookshop!&nbsp\; We are a cozy\, independent\, woman-owned bookshop in Prospect New Town focusing on curated collections of fiction and children&#39\;s literature.&nbsp\; In addition to books we have stocked book-themed gifts\, notebooks\, a unique selection of games\, puzzles\, toys\,&nbsp\;and candles.&nbsp\; We can&#39\;t wait to see you and show you all the wonderful things we have to offer.\n<div color:="" font-feature-settings:="" font-kerning:="" font-optical-sizing:="" font-variation-settings:="" helvetica="" margin:="" padding:="" segoe="" ui="" vertical-align:="" web="" west="">\n<p>&nbsp\;</p>\n</div>\n
LOCATION:
UID:e.3083.14211
SEQUENCE:3
DTSTAMP:20260421T064455Z
URL:https://members.longmontchamber.org/events/details/ribbon-cutting-the-quill-candle-bookshop-14211
END:VEVENT

END:VCALENDAR
