BEGIN:VCALENDAR
VERSION:2.0
PRODID:-//ChamberMaster//Event Calendar 2.0//EN
METHOD:PUBLISH
X-PUBLISHED-TTL:P3D
REFRESH-INTERVAL:P3D
CALSCALE:GREGORIAN
BEGIN:VEVENT
DTSTART:20210824T220000Z
DTEND:20210824T230000Z
X-MICROSOFT-CDO-ALLDAYEVENT:FALSE
SUMMARY:Ribbon Cutting | The Times Collaborative
DESCRIPTION:Join us as we welcome The Times Collaborative\, a new co-working space in Downtown Longmont\, to our community!\n\n\n\nAbout The Times Collaborative\n\nLongmont's newest co-working space with private offices\, conference room\, and event space. The newly renovated Times Collaborative's historic charm will inspire every professional and entrepreneur. If you have enjoyed the company of an office\, the quiet of working from home\, the energy from others pursuing their dreams\, a cup of coffee and a change of scenery to inspire a new way of looking at your task at hand... this space was built for you.  We believe that it is in the presence of disparate company we learn\, adapt\, and grow.
X-ALT-DESC;FMTTYPE=text/html:Join us as we welcome The Times Collaborative\, a new co-working space in Downtown Longmont\, to our community!<br />\n<br />\n<strong>About The Times Collaborative</strong><br />\nLongmont&#39\;s newest co-working space with private offices\, conference room\, and event space. The newly renovated Times Collaborative&#39\;s historic charm will inspire every professional and entrepreneur.&nbsp\;If you have enjoyed the company of an office\, the quiet of working from home\, the energy from others pursuing their dreams\, a cup of coffee and a change of scenery to inspire a new way of looking at your task at hand... this space was built for you.&nbsp\; We believe that it is in the presence of disparate company we learn\, adapt\, and grow.
LOCATION:The Times Collaborative 338 Main Street Longmont CO 80501
UID:e.3083.8468
SEQUENCE:3
DTSTAMP:20260424T123738Z
URL:https://members.longmontchamber.org/events/details/ribbon-cutting-the-times-collaborative-8468
END:VEVENT

END:VCALENDAR
