BEGIN:VCALENDAR
VERSION:2.0
PRODID:-//ChamberMaster//Event Calendar 2.0//EN
METHOD:PUBLISH
X-PUBLISHED-TTL:P3D
REFRESH-INTERVAL:P3D
CALSCALE:GREGORIAN
BEGIN:VEVENT
DTSTART:20220526T220000Z
DTEND:20220526T230000Z
X-MICROSOFT-CDO-ALLDAYEVENT:FALSE
SUMMARY:Ribbon Cutting | Thompson Family Chiropractic
DESCRIPTION:Join us in welcoming new member Thompson Family Chiropractic to the Longmont Chamber community!\n\n\n\nAbout Thompson Family Chiropractic\n\nThompson Family Chiropractic is a state-of-the-art chiropractic facility focusing on specific\, scientific\, neurologically-based chiropractic care. We are driven to empower and educate Longmont.
X-ALT-DESC;FMTTYPE=text/html:Join us in welcoming new member Thompson Family Chiropractic to the Longmont Chamber community!<br />\n<br />\n<strong>About Thompson Family Chiropractic</strong><br />\nThompson Family Chiropractic is a state-of-the-art chiropractic facility focusing on specific\, scientific\, neurologically-based chiropractic care. We are driven to empower and educate Longmont.
LOCATION:700 Ken Pratt Boulevard Suite 108 Longmont\, CO
UID:e.3083.8675
SEQUENCE:3
DTSTAMP:20260424T000317Z
URL:https://members.longmontchamber.org/events/details/ribbon-cutting-thompson-family-chiropractic-8675
END:VEVENT

END:VCALENDAR
