BEGIN:VCALENDAR
VERSION:2.0
PRODID:-//ChamberMaster//Event Calendar 2.0//EN
METHOD:PUBLISH
X-PUBLISHED-TTL:P3D
REFRESH-INTERVAL:P3D
CALSCALE:GREGORIAN
BEGIN:VEVENT
DTSTART:20240604T220000Z
DTEND:20240604T230000Z
X-MICROSOFT-CDO-ALLDAYEVENT:FALSE
SUMMARY:Ribbon Cutting | Tri Pointe Homes
DESCRIPTION:Join us in celebrating Tri Pointe Homes!\n\n\n\nAbout Tri Pointe Homes -\n\n \nAt Tri Pointe Homes we're in the life-changing business\, dedicated to designing homes\, neighborhoods and experiences that inspire and uplift our customers\, our team members and the communities we serve. We're a leading new homebuilder\, that brings the best of big and small to all its homebuyers with communities in 10 states and the District of Columbia. We are proud to be local specialists on a national scale\, customer-driven and committed to environmentally responsible business practices and enduring craftsmanship. As one of the nation's largest homebuilders\, we create homes and neighborhoods that make a premium lifestyle possible for our customers whatever their price point or life stage.
X-ALT-DESC;FMTTYPE=text/html:Join us in celebrating Tri Pointe Homes!<br />\n<br />\n<strong>About Tri Pointe Homes</strong> -<br />\n&nbsp\;\n<div color:="" font-feature-settings:="" font-kerning:="" font-optical-sizing:="" font-variation-settings:="" helvetica="" margin:="" padding:="" segoe="" ui="" vertical-align:="" web="" west="">At Tri Pointe Homes we&rsquo\;re in the life-changing business\, dedicated to designing homes\, neighborhoods and experiences that inspire and uplift our customers\, our team members and the communities we serve.&nbsp\;We&rsquo\;re a leading new homebuilder\, that brings the best of big and small to all its homebuyers with&nbsp\;communities in 10 states and the District of Columbia. We are proud to be local specialists on a national scale\, customer-driven and committed to environmentally responsible business practices and enduring craftsmanship. As one of the nation&rsquo\;s largest homebuilders\, we create homes and neighborhoods that make a premium lifestyle possible for our customers&mdash\;whatever their price point or life stage.</div>\n
LOCATION:
UID:e.3083.10097
SEQUENCE:3
DTSTAMP:20260422T074909Z
URL:https://members.longmontchamber.org/events/details/ribbon-cutting-tri-pointe-homes-10097
END:VEVENT

END:VCALENDAR
