BEGIN:VCALENDAR
VERSION:2.0
PRODID:-//ChamberMaster//Event Calendar 2.0//EN
METHOD:PUBLISH
X-PUBLISHED-TTL:P3D
REFRESH-INTERVAL:P3D
CALSCALE:GREGORIAN
BEGIN:VEVENT
DTSTART:20231130T230000Z
DTEND:20231201T000000Z
X-MICROSOFT-CDO-ALLDAYEVENT:FALSE
SUMMARY:Ribbon Cutting | Tumbleweed Art Collective
DESCRIPTION:Join us in celebrating Tumbleweed Art Collective!\n\n\n\nAbout Tumbleweed Art Collective\n\nThe collective features an artisan boutique\, classrooms and studio space. The boutique features handmade and locally made work. Our boutique is constantly evolving and adding new creations daily. Come see all of the talent in our community!\n\n\n\nThe classrooms are available for Artists/Makers to teach classes and hold workshops. We are adding new classes all the time so check in often for class availability.\n\n\n\nFor those interested in dedicated studio space\, spots are available to set up a studio space of your own.
X-ALT-DESC;FMTTYPE=text/html:Join us in celebrating Tumbleweed Art Collective!<br />\n<br />\n<strong>About Tumbleweed Art Collective</strong>\n<div color:="" font-feature-settings:="" font-kerning:="" font-optical-sizing:="" font-variation-settings:="" helvetica="" margin:="" padding:="" segoe="" ui="" vertical-align:="" web="" west="">\n<p>The collective features an artisan boutique\, classrooms and studio space. The boutique features handmade and locally made work. Our boutique is constantly evolving and adding new creations daily. Come see all of the talent in our community!<br font-size:="" helvetica="" />\n<br font-size:="" helvetica="" />\nThe classrooms are available for Artists/Makers to teach classes and&nbsp\;hold workshops. We are adding new classes all the time so check in often for class availability.<br font-size:="" helvetica="" />\n<br font-size:="" helvetica="" />\nFor those interested in dedicated studio space\, spots are available to set up a studio space of your own.</p>\n</div>\n
LOCATION:1333 Coffman St Suite A Longmont Colorado
UID:e.3083.9987
SEQUENCE:3
DTSTAMP:20260422T195129Z
URL:https://members.longmontchamber.org/events/details/ribbon-cutting-tumbleweed-art-collective-9987
END:VEVENT

END:VCALENDAR
