BEGIN:VCALENDAR
VERSION:2.0
PRODID:-//ChamberMaster//Event Calendar 2.0//EN
METHOD:PUBLISH
X-PUBLISHED-TTL:P3D
REFRESH-INTERVAL:P3D
CALSCALE:GREGORIAN
BEGIN:VEVENT
DTSTART:20251106T230000Z
DTEND:20251107T000000Z
X-MICROSOFT-CDO-ALLDAYEVENT:FALSE
SUMMARY:Ribbon Cutting | Tune Up - The Manly Salon
DESCRIPTION:Join us in celebrating Tune Up - The Manly Salon!\n\n\n\nAbout \n\nMore than just a men's salon   we're leveling up the experience with epic cuts\, clean shaves\, and a cold beer on us!
X-ALT-DESC;FMTTYPE=text/html:Join us in celebrating Tune Up - The Manly Salon!<br />\n<br />\n<strong>About&nbsp\;</strong><br />\nMore than just a men&rsquo\;s salon &mdash\; we&rsquo\;re leveling up the experience with epic cuts\, clean shaves\, and a cold beer on us!
LOCATION:
UID:e.3083.14626
SEQUENCE:3
DTSTAMP:20260421T033611Z
URL:https://members.longmontchamber.org/events/details/ribbon-cutting-tune-up-the-manly-salon-14626
END:VEVENT

END:VCALENDAR
