BEGIN:VCALENDAR
VERSION:2.0
PRODID:-//ChamberMaster//Event Calendar 2.0//EN
METHOD:PUBLISH
X-PUBLISHED-TTL:P3D
REFRESH-INTERVAL:P3D
CALSCALE:GREGORIAN
BEGIN:VEVENT
DTSTART:20191015T220000Z
DTEND:20191015T230000Z
X-MICROSOFT-CDO-ALLDAYEVENT:FALSE
SUMMARY:Ribbon Cutting: Twin Peaks Escape Room
DESCRIPTION:Join us at a Ribbon Cutting for Twin Peaks Escape Room!\n\n\n\nRibbon Cuttings are a great way to celebrate our members\, network\, meet fellow Chamber Members and learn something about Longmont businesses.
X-ALT-DESC;FMTTYPE=text/html:Join us at a Ribbon Cutting for Twin Peaks Escape Room!<br />\n<br />\n<span style="color: rgb(0\, 0\, 0)\; font-family: tahoma\; font-size: 14px\;">Ribbon Cuttings are a great way to celebrate our&nbsp\;members\, network\, meet fellow Chamber Members and learn something about Longmont businesses.</span>
LOCATION:425 S Bowen Street Unit 6 Longmont\, Colorado 80501
UID:e.3083.7145
SEQUENCE:3
DTSTAMP:20260426T010130Z
URL:https://members.longmontchamber.org/events/details/ribbon-cutting-twin-peaks-escape-room-7145
END:VEVENT

END:VCALENDAR
