BEGIN:VCALENDAR
VERSION:2.0
PRODID:-//ChamberMaster//Event Calendar 2.0//EN
METHOD:PUBLISH
X-PUBLISHED-TTL:P3D
REFRESH-INTERVAL:P3D
CALSCALE:GREGORIAN
BEGIN:VEVENT
DTSTART:20210825T233000Z
DTEND:20210826T010000Z
X-MICROSOFT-CDO-ALLDAYEVENT:FALSE
SUMMARY:Ribbon Cutting | UCHealth Primary Care - Ken Pratt Boulevard
DESCRIPTION:**Note: If you are looking for the link to sign up for August 27 High Plains Business Before Hours please click here.\n\n**We apologize for the misprinted UCHealth Ribbon Cutting date/time in the 8/19 enews.  The correct information is displayed here:  August 25\, 5:30-7pm.\n\n\n\nJoin us as we welcome UCHealth's New Primary Care office to Longmont!\n\n\n\nAbout UCHealth Primary Care\n\nAt UCHealth Primary Care   Ken Pratt Boulevard\, we offer the best in primary care services. Our highly-trained and compassionate staff can help you obtain and maintain optimal health.\n\nWe aim to care for the whole person\, and that includes partnering with patients and their families to identify and understand each patient's unique needs. From routine physicals to maintenance of chronic conditions like diabetes or cholesterol management\, our providers take the time to listen to your concerns and to develop a plan for care with you.
X-ALT-DESC;FMTTYPE=text/html:<p><span style="font-size:12px\;">**Note: If you are looking for the link to sign up for August 27 High Plains Business Before Hours <a href="http://business.longmontchamber.org/events/details/unity-day-business-before-hours-at-high-plains-bank-8464">please click here</a>.</span></p>\n\n<p><span style="font-size:12px\;">**We apologize for the misprinted UCHealth Ribbon Cutting date/time in the 8/19 enews.&nbsp\; The correct information is displayed here:&nbsp\; August 25\, 5:30-7pm.<br />\n<br />\nJoin us as we welcome UCHealth&#39\;s New Primary Care office to Longmont!</span><br />\n<br />\n<strong>About UCHealth Primary Care</strong></p>\n\n<p style="box-sizing: inherit\; margin: 0px 0px 20px\; color: rgb(46\, 59\, 68)\; font-family: Avenir\, Arial\, sans-serif\; font-size: 16px\;"><span style="font-size:12px\;">At UCHealth Primary Care &ndash\; Ken Pratt Boulevard\, we offer the best in primary care services. Our highly-trained and compassionate staff can help you obtain and maintain optimal health.</span></p>\n\n<p style="box-sizing: inherit\; margin: 0px 0px 20px\; color: rgb(46\, 59\, 68)\; font-family: Avenir\, Arial\, sans-serif\; font-size: 16px\;"><span style="font-size:12px\;">We aim to care for the whole person\, and that includes partnering with patients and their families to identify and understand each patient&rsquo\;s unique needs. From routine physicals to maintenance of chronic conditions like diabetes or cholesterol management\, our providers take the time to listen to your concerns and to develop a plan for care with you.</span></p>\n
LOCATION:UCHealth Primary Care - Ken Pratt Boulevard 601 S. Main St. Longmont CO 80501
UID:e.3083.8473
SEQUENCE:3
DTSTAMP:20260424T124458Z
URL:https://members.longmontchamber.org/events/details/ribbon-cutting-uchealth-primary-care-ken-pratt-boulevard-8473
END:VEVENT

END:VCALENDAR
