BEGIN:VCALENDAR
VERSION:2.0
PRODID:-//ChamberMaster//Event Calendar 2.0//EN
METHOD:PUBLISH
X-PUBLISHED-TTL:P3D
REFRESH-INTERVAL:P3D
CALSCALE:GREGORIAN
BEGIN:VEVENT
DTSTART:20220921T230000Z
DTEND:20220922T000000Z
X-MICROSOFT-CDO-ALLDAYEVENT:FALSE
SUMMARY:Ribbon Cutting | Urban Field Pizza
DESCRIPTION:Join us in welcoming new member Urban Field Pizza & Market to the Longmont Chamber community!\n\n\n\nAbout Urban Field Pizza & Market\n\nWe're so much more than great pizza!  With a chef-driven and guest-facing approach\, Urban Field Pizza and Market offers unique interpretations and cultural twists of grandma's classics utilizing local\, fresh ingredients. In our market\, you'll find meals for home\, soups and sauces and pantry items from our kitchen as well as a variety of products from local business partners bouquets of flowers from Lyons\, heirloom tomatoes grown a few miles away\, honey from a beekeeper in the neighborhood.\n\n\n\nOur unique approach to hospitality embraces the immediate and on-demand nature of modern society by employing diverse and flexible service models. Built on pillars of kindness\, acceptance\, patience\, and empathy\, Urban Field provides hospitality grown from connection and common sense while offering service and meal options for all lifestyles and occasions.
X-ALT-DESC;FMTTYPE=text/html:Join us in welcoming new member Urban Field Pizza &amp\; Market to the Longmont Chamber community!<br />\n<br />\n<strong>About Urban Field Pizza &amp\; Market</strong><br />\nWe&rsquo\;re so much more than great pizza!&nbsp\; With a chef-driven and guest-facing approach\, Urban Field Pizza and Market offers unique interpretations and cultural twists of grandma&rsquo\;s classics utilizing local\, fresh ingredients. In our market\, you&rsquo\;ll find meals for home\, soups and sauces and pantry items from our kitchen as well as a variety of products from local business partners&mdash\;bouquets of flowers from Lyons\, heirloom tomatoes grown a few miles away\, honey from a beekeeper in the neighborhood.<br />\n<br />\nOur unique approach to hospitality embraces the immediate and on-demand nature of modern society by employing diverse and flexible service models. Built on pillars of kindness\, acceptance\, patience\, and empathy\, Urban Field provides hospitality grown from connection and common sense while offering service and meal options for all lifestyles and occasions.
LOCATION:150 Main St\, Longmont\, CO
UID:e.3083.9098
SEQUENCE:3
DTSTAMP:20260423T162722Z
URL:https://members.longmontchamber.org/events/details/ribbon-cutting-urban-field-pizza-9098
END:VEVENT

END:VCALENDAR
