BEGIN:VCALENDAR
VERSION:2.0
PRODID:-//ChamberMaster//Event Calendar 2.0//EN
METHOD:PUBLISH
X-PUBLISHED-TTL:P3D
REFRESH-INTERVAL:P3D
CALSCALE:GREGORIAN
BEGIN:VEVENT
DTSTART:20250522T220000Z
DTEND:20250522T230000Z
X-MICROSOFT-CDO-ALLDAYEVENT:FALSE
SUMMARY:Ribbon Cutting | Valor Peak Distillery
DESCRIPTION:Join us in celebrating Valor Peak Distillery!\n\n\n\nAbout Valor Peak Distillery\n\nLocated in Longmont\, CO\, Valor Peak Distillery combines tradition with innovation\, creating handcrafted spirits like our smooth barrel-aged whiskey and unique sugar beet vodka.  Each bottle reflects our dedication to the art of distilling and serving up specialty drinks that embrace unexpected flavors.
X-ALT-DESC;FMTTYPE=text/html:Join us in celebrating Valor Peak Distillery!<br />\n<br />\n<strong>About Valor Peak Distillery</strong>\n<div color:="" font-feature-settings:="" font-kerning:="" font-optical-sizing:="" font-variation-settings:="" helvetica="" margin:="" padding:="" segoe="" ui="" vertical-align:="" web="" west="">\n<p>Located in Longmont\, CO\, Valor Peak Distillery combines tradition with innovation\, creating handcrafted spirits like our smooth barrel-aged whiskey and unique sugar beet vodka.&nbsp\; Each bottle reflects our dedication to the art of distilling and serving up specialty drinks that embrace unexpected flavors.</p>\n</div>\n
LOCATION:
UID:e.3083.13301
SEQUENCE:3
DTSTAMP:20260421T142736Z
URL:https://members.longmontchamber.org/events/details/ribbon-cutting-valor-peak-distillery-13301
END:VEVENT

END:VCALENDAR
