BEGIN:VCALENDAR
VERSION:2.0
PRODID:-//ChamberMaster//Event Calendar 2.0//EN
METHOD:PUBLISH
X-PUBLISHED-TTL:P3D
REFRESH-INTERVAL:P3D
CALSCALE:GREGORIAN
BEGIN:VEVENT
DTSTART:20251118T230000Z
DTEND:20251119T000000Z
X-MICROSOFT-CDO-ALLDAYEVENT:FALSE
SUMMARY:Ribbon Cutting | Wax Crescent
DESCRIPTION:Join us in celebrating Wax Crescent!\n\n\n\nAbout \n\nWax Crescent is a boutique candle company and retail space in the heart of downtown Longmont\, where craftsmanship\, creativity\, and community meet. The shop features hand-poured soy candles\, hands-on candle-making workshops\, and a thoughtfully curated gift boutique filled with artisanal goods.
X-ALT-DESC;FMTTYPE=text/html:Join us in celebrating Wax Crescent!<br />\n<br />\n<strong>About&nbsp\;</strong>\n<div color:="" font-feature-settings:="" font-kerning:="" font-optical-sizing:="" font-variation-settings:="" helvetica="" margin:="" padding:="" segoe="" ui="" vertical-align:="" web="" west="">\n<p><!--StartFragment--><span data-olk-copy-source="MessageBody">Wax Crescent is a boutique candle company and retail space in the heart of downtown Longmont\, where craftsmanship\, creativity\, and community meet. The shop features hand-poured soy candles\, hands-on candle-making workshops\, and a thoughtfully curated gift boutique filled with artisanal goods.</span><!--EndFragment--></p>\n</div>\n
LOCATION:
UID:e.3083.14637
SEQUENCE:3
DTSTAMP:20260421T033307Z
URL:https://members.longmontchamber.org/events/details/ribbon-cutting-wax-crescent-14637
END:VEVENT

END:VCALENDAR
