BEGIN:VCALENDAR
VERSION:2.0
PRODID:-//ChamberMaster//Event Calendar 2.0//EN
METHOD:PUBLISH
X-PUBLISHED-TTL:P3D
REFRESH-INTERVAL:P3D
CALSCALE:GREGORIAN
BEGIN:VEVENT
DTSTART:20250311T220000Z
DTEND:20250311T230000Z
X-MICROSOFT-CDO-ALLDAYEVENT:FALSE
SUMMARY:Ribbon Cutting | Wayword Press
DESCRIPTION:Join us in celebrating Wayword Press!\n\n\n\nAbout \n\nWayword Press simplifies podcast and video production for businesses\, nonprofits\, and hobbyists\, freeing them to connect with their audiences. Come join the ribbon cutting as Wayword Press launches production class packages to make it easier than ever to get your story told to your audience.\n\n \n\nThe ribbon cutting will include:\n\n\n\n	Smoothies from Smoothie King\n	Food and snacks \n	5-minute mini class on using podcasts and video\n	Special offer for those who stop by!
X-ALT-DESC;FMTTYPE=text/html:Join us in celebrating Wayword Press!<br />\n<br />\nAbout&nbsp\;\n<div color:="" font-feature-settings:="" font-kerning:="" font-optical-sizing:="" font-variation-settings:="" helvetica="" margin:="" padding:="" segoe="" ui="" vertical-align:="" web="" west="">\n<div data-olk-copy-source="MessageBody">Wayword Press simplifies podcast and video production for businesses\, nonprofits\, and hobbyists\, freeing them to connect with their audiences. Come join the ribbon cutting as Wayword Press launches production class packages to make it easier than ever to get your story told to your audience.</div>\n\n<div>&nbsp\;</div>\n\n<div>The ribbon cutting will include:</div>\n\n<div>\n<ul>\n	<li>Smoothies from Smoothie King</li>\n	<li>Food and snacks&nbsp\;</li>\n	<li>5-minute mini class on using podcasts and video</li>\n	<li>Special offer for those who stop by!</li>\n</ul>\n</div>\n</div>\n
LOCATION:Longmont Public Media
UID:e.3083.10762
SEQUENCE:3
DTSTAMP:20260421T160149Z
URL:https://members.longmontchamber.org/events/details/ribbon-cutting-wayword-press-10762
END:VEVENT

END:VCALENDAR
