BEGIN:VCALENDAR
VERSION:2.0
PRODID:-//ChamberMaster//Event Calendar 2.0//EN
METHOD:PUBLISH
X-PUBLISHED-TTL:P3D
REFRESH-INTERVAL:P3D
CALSCALE:GREGORIAN
BEGIN:VEVENT
DTSTART:20240815T220000Z
DTEND:20240815T230000Z
X-MICROSOFT-CDO-ALLDAYEVENT:FALSE
SUMMARY:Ribbon Cutting | Westpro Home Exteriors
DESCRIPTION:Join us in celebrating WestPro Home Exteriors!\n\n\n\nAbout Business\n\nAs a local and family-owned company\, you can trust that we're dedicated to you and your family's well-being. We only work with brands and products that can withstand the Boulder & Longmont climate. If it's never been used or has been proven to fail in our harsh weather\, we refuse to use it. This 'Built for Boulder & Longmont' approach is why so many home and business owners in the area trust us to accomplish their exterior remodeling projects.
X-ALT-DESC;FMTTYPE=text/html:Join us in celebrating WestPro Home Exteriors!<br />\n<br />\n<strong>About Business</strong>\n<div color:="" font-feature-settings:="" font-kerning:="" font-optical-sizing:="" font-variation-settings:="" helvetica="" margin:="" padding:="" segoe="" ui="" vertical-align:="" web="" west="">\n<p>As a local and family-owned company\, you can trust that we&#39\;re dedicated to you and your family&#39\;s well-being. We only work with brands and products that can withstand the Boulder &amp\; Longmont climate. If it&#39\;s never been used or has been proven to fail in our harsh weather\, we refuse to use it. This &#39\;Built for Boulder &amp\; Longmont&#39\; approach is why so many home and business owners in the area trust us to accomplish their exterior remodeling projects.</p>\n</div>\n
LOCATION:
UID:e.3083.10136
SEQUENCE:3
DTSTAMP:20260422T044139Z
URL:https://members.longmontchamber.org/events/details/ribbon-cutting-westpro-home-exteriors-10136
END:VEVENT

END:VCALENDAR
