BEGIN:VCALENDAR
VERSION:2.0
PRODID:-//ChamberMaster//Event Calendar 2.0//EN
METHOD:PUBLISH
X-PUBLISHED-TTL:P3D
REFRESH-INTERVAL:P3D
CALSCALE:GREGORIAN
BEGIN:VEVENT
DTSTART:20241005T203000Z
DTEND:20241005T213000Z
X-MICROSOFT-CDO-ALLDAYEVENT:FALSE
SUMMARY:Ribbon Cutting | Wild Plum Center
DESCRIPTION:Join us in celebrating Wild Plum Center!  \n\n \nAbout Wild Plum Center\n\nWild Plum Center has been providing early childhood education (ECE) and family services to Longmont residents since 1965. Its mission is to prepare children for a lifetime of learning and self-sufficiency by providing a comprehensive\, individualized approach to early learning and family wellness. Wild Plum's primary goal is to ensure that every child meets their developmental milestones and are fully prepared to enter kindergarten. Wild Plum serves children from birth to age 5\, pregnant women\, and parents from low-income households unable to access childcare and ECE services.\n\nWild Plum is the designated Early Head Start and Head Start provider for the Longmont community. In addition to these programs\, Wild Plum offers an array of additional services to support child development and family self-sufficiency. These include child vision\, hearing\, dental\, and vision screenings\; intensive family case management services\; mental and behavioral supports\, and parent engagement programs.
X-ALT-DESC;FMTTYPE=text/html:Join us in celebrating Wild Plum Center!&nbsp\;&nbsp\;<br />\n&nbsp\;\n<p font-size:="" new="" style="color: rgb(0\, 0\, 0)\; font-family: " times="">About Wild Plum Center</p>\n\n<p font-size:="" new="" times="">Wild Plum Center has been providing early childhood education (ECE) and family services to Longmont residents since 1965. Its mission is to prepare children for a lifetime of learning and self-sufficiency by providing a comprehensive\, individualized approach to early learning and family wellness. Wild Plum&rsquo\;s primary goal is to ensure that every child meets their developmental milestones and are fully prepared to enter kindergarten. Wild Plum serves children from birth to age 5\, pregnant women\, and parents from low-income households unable to access childcare and ECE services.</p>\n\n<p font-size:="" new="" times="">Wild Plum is the designated Early Head Start and Head Start provider for the Longmont community. In addition to these programs\, Wild Plum offers an array of additional services to support child development and family self-sufficiency. These include child vision\, hearing\, dental\, and vision screenings\; intensive family case management services\; mental and behavioral supports\, and parent engagement programs.</p>\n
LOCATION:Note: this Event will be happening at Wild Cider!
UID:e.3083.10187
SEQUENCE:3
DTSTAMP:20260421T235634Z
URL:https://members.longmontchamber.org/events/details/ribbon-cutting-wild-plum-center-10187
END:VEVENT

END:VCALENDAR
