BEGIN:VCALENDAR
VERSION:2.0
PRODID:-//ChamberMaster//Event Calendar 2.0//EN
METHOD:PUBLISH
X-PUBLISHED-TTL:P3D
REFRESH-INTERVAL:P3D
CALSCALE:GREGORIAN
BEGIN:VEVENT
DTSTART:20200211T230000Z
DTEND:20200212T000000Z
X-MICROSOFT-CDO-ALLDAYEVENT:FALSE
SUMMARY:Ribbon Cutting: Wing Shack
DESCRIPTION:Join us at a Ribbon Cutting for Wing Shack!\n\n\n\nWing Shack Longmont is now under NEW OWNERSHIP by the Original Wing Shack.
X-ALT-DESC;FMTTYPE=text/html:Join us at a Ribbon Cutting for Wing Shack!<br />\n<br />\n<span style="color: rgb(81\, 83\, 81)\; font-family: CenturyGothic\, Arial\, Helvetica\, sans-serif\; font-size: 15px\;">Wing Shack Longmont is now under NEW OWNERSHIP by the Original Wing Shack.</span>
LOCATION:Wing Shack 1133 Francis Street Longmont\, CO 80501
UID:e.3083.7386
SEQUENCE:3
DTSTAMP:20260425T182503Z
URL:https://members.longmontchamber.org/events/details/ribbon-cutting-wing-shack-7386
END:VEVENT

END:VCALENDAR
