BEGIN:VCALENDAR
VERSION:2.0
PRODID:-//ChamberMaster//Event Calendar 2.0//EN
METHOD:PUBLISH
X-PUBLISHED-TTL:P3D
REFRESH-INTERVAL:P3D
CALSCALE:GREGORIAN
BEGIN:VEVENT
DTSTART:20250206T230000Z
DTEND:20250207T000000Z
X-MICROSOFT-CDO-ALLDAYEVENT:FALSE
SUMMARY:Ribbon Cutting | Winner's Circle
DESCRIPTION:Join us in celebrating Winners Circle!\n\n\n\nAbout Winners Circle\n\nLocated in Longmont\, Colorado\, Winner's Circle offers a thrilling array of entertainment and dining options under one roof. We aim to create an exhilarating and inclusive environment where people can escape the ordinary and engage in exciting games\, fostering memorable experiences and lasting connections. You haven't experienced a family Entertainment Center like this! You will love this large open space consisting of duck-pin bowling\, axe-throwing\, digitized mini-golf\, curling and an arcade!  There is a full-service restaurant\, multiple bars and multiple event spaces.
X-ALT-DESC;FMTTYPE=text/html:Join us in celebrating Winners Circle!<br />\n<br />\n<strong>About Winners Circle</strong>\n<div color:="" font-feature-settings:="" font-kerning:="" font-optical-sizing:="" font-variation-settings:="" helvetica="" margin:="" padding:="" segoe="" ui="" vertical-align:="" web="" west="">\n<p>Located in Longmont\, Colorado\, Winner&rsquo\;s Circle offers&nbsp\;a thrilling array of entertainment and dining options under one roof. We aim to create an exhilarating and inclusive environment where people can escape the ordinary and engage in exciting games\, fostering memorable experiences and lasting connections.&nbsp\;You haven&#39\;t experienced a family Entertainment Center like this! You will love this large open space consisting of duck-pin bowling\, axe-throwing\, digitized mini-golf\, curling and an arcade!&nbsp\; There is a full-service restaurant\, multiple bars and multiple event spaces.</p>\n</div>\n
LOCATION:
UID:e.3083.10264
SEQUENCE:3
DTSTAMP:20260421T174631Z
URL:https://members.longmontchamber.org/events/details/ribbon-cutting-winner-s-circle-10264
END:VEVENT

END:VCALENDAR
