BEGIN:VCALENDAR
VERSION:2.0
PRODID:-//ChamberMaster//Event Calendar 2.0//EN
METHOD:PUBLISH
X-PUBLISHED-TTL:P3D
REFRESH-INTERVAL:P3D
CALSCALE:GREGORIAN
BEGIN:VEVENT
DTSTART:20250710T220000Z
DTEND:20250710T230000Z
X-MICROSOFT-CDO-ALLDAYEVENT:FALSE
SUMMARY:Ribbon Cutting | Ziggi's Grand Opening
DESCRIPTION:Join us in celebrating the grand opening of the 4th Ziggi's Coffee location in Longmont!\n\n\n\nAbout Ziggi's Coffee\n\nZiggi's Coffee is excited to announce the grand opening of our 4th location in Longmont!  As a proud member of the Longmont community\, we're thrilled to continue our journey from where it all began.  In 2004\, we opened our first location on Main Street in Longmont\, offering a wide range of delicious beverages crafted with care and quality.  Since then\, we've grown to multiple locations\, but our roots remain firmly planted here in Longmont.  Join us as we celebrate this exciting new chapter and enjoy a refreshing selection of beverages\, from smooth lattes to our fun\, dirty soda-inspired drinks!
X-ALT-DESC;FMTTYPE=text/html:Join us in celebrating the grand opening of the 4th Ziggi&#39\;s Coffee location in Longmont!<br />\n<br />\n<strong>About Ziggi&#39\;s Coffee</strong>\n<div color:="" font-feature-settings:="" font-kerning:="" font-optical-sizing:="" font-variation-settings:="" helvetica="" margin:="" padding:="" segoe="" ui="" vertical-align:="" web="" west="">\n<p><span data-olk-copy-source="MessageBody">Ziggi&#39\;s Coffee is excited to announce the grand opening of our 4th location in Longmont!&nbsp\; As a proud member of the Longmont community\, we&rsquo\;re thrilled to continue our journey from where it all began.&nbsp\; In 2004\, we opened our first location on Main Street in Longmont\, offering a wide range of delicious beverages crafted with care and quality.&nbsp\; Since then\, we&rsquo\;ve grown to multiple locations\, but our roots remain firmly planted here in Longmont.&nbsp\; Join us as we celebrate this exciting new chapter and enjoy a refreshing selection of beverages\, from smooth lattes to our fun\, dirty soda-inspired drinks!</span></p>\n</div>\n
LOCATION:
UID:e.3083.13524
SEQUENCE:3
DTSTAMP:20260421T095426Z
URL:https://members.longmontchamber.org/events/details/ribbon-cutting-ziggi-s-grand-opening-13524
END:VEVENT

END:VCALENDAR
