BEGIN:VCALENDAR
VERSION:2.0
PRODID:-//ChamberMaster//Event Calendar 2.0//EN
METHOD:PUBLISH
X-PUBLISHED-TTL:P3D
REFRESH-INTERVAL:P3D
CALSCALE:GREGORIAN
BEGIN:VEVENT
DTSTART:20240924T220000Z
DTEND:20240924T230000Z
X-MICROSOFT-CDO-ALLDAYEVENT:FALSE
SUMMARY:Ribbon Cutting | Zoilita Grant Book Release
DESCRIPTION:Join us in celebrating Zoilita Grant\, who has just released another new book!\n\n\n\nAbout Zoilita Grant\n\nZoilita is an author\, a speaker and hypnotic coach - a true treasure in our community!  After the Ribbon Cutting\, Zoilta will be signing books at the event.  If you are interested\, you can purchase a book at the event\, or ahead of time online HERE.
X-ALT-DESC;FMTTYPE=text/html:Join us in celebrating Zoilita Grant\, who has just released another new book!<br />\n<br />\n<strong>About Zoilita Grant</strong>\n<div color:="" font-feature-settings:="" font-kerning:="" font-optical-sizing:="" font-variation-settings:="" helvetica="" margin:="" padding:="" segoe="" ui="" vertical-align:="" web="" west="">\n<p>Zoilita is an author\, a speaker and hypnotic coach - a true treasure in our community!&nbsp\; After the Ribbon Cutting\, Zoilta&nbsp\;will be signing books at the event.&nbsp\; If you are interested\, you can purchase a book at the event\, or ahead of time online <a href="https://citiofbooks.com/bookstore/medical/change-your-mind-and-change-your-life-a-step-by-step-guide-to-letting-go-of-your-past/">HERE.</a><br />\n&nbsp\;</p>\n</div>\n
LOCATION:This event is happening at the Chamber in our large conference room
UID:e.3083.10185
SEQUENCE:3
DTSTAMP:20260422T013840Z
URL:https://members.longmontchamber.org/events/details/ribbon-cutting-zoilita-grant-book-release-10185
END:VEVENT

END:VCALENDAR
