BEGIN:VCALENDAR
VERSION:2.0
PRODID:-//ChamberMaster//Event Calendar 2.0//EN
METHOD:PUBLISH
X-PUBLISHED-TTL:P3D
REFRESH-INTERVAL:P3D
CALSCALE:GREGORIAN
BEGIN:VEVENT
DTSTART:20191001T220000Z
DTEND:20191001T230000Z
X-MICROSOFT-CDO-ALLDAYEVENT:FALSE
SUMMARY:Ribbon Cutting: Zoilita Grant- Mindset For Success
DESCRIPTION:Join us at a Ribbon Cutting for Zoilita Grant\, Mindset For Success!\n\n\n\nEvery small business owner needs a coach. Being a small business owner can be incredibly lucrative. Income levels range from a few thousand a year to $250\,000 plus. Unfortunately\, most individuals make between $30\,000 to $60\,000 a year and very few make $100\,000. Coaching and hypnosis will empower you for business success.\n\nWould you like to end the struggle to get customers/clients and have a business that really thrives?\n\nAre you looking to take your business to the next level of financial success?\n\nI use the tools and techniques of coaching with the power and punch of hypnosis founded on the principles of Napoleon Hill.\n\n\n\nRibbon Cuttings are a great way to celebrate our members\, network\, meet fellow Chamber Members and learn something about Longmont businesses.
X-ALT-DESC;FMTTYPE=text/html:Join us at a Ribbon Cutting for Zoilita Grant\, Mindset For Success!<br />\n<br />\n<span style="color: rgb(81\, 83\, 81)\; font-family: CenturyGothic\, Arial\, Helvetica\, sans-serif\; font-size: 15px\;">Every small business owner needs a coach. Being a small business owner can be incredibly lucrative. Income levels range from a few thousand a year to $250\,000 plus. Unfortunately\, most individuals make between $30\,000 to $60\,000 a year and very few make $100\,000. Coaching and hypnosis will empower you for business success.</span><br style="box-sizing: content-box\; bottom: auto\; clear: none\; color: rgb(81\, 83\, 81)\; content: normal\; direction: inherit\; display: inline\; empty-cells: show\; float: none\; font-variant-numeric: inherit\; font-variant-east-asian: inherit\; font-stretch: inherit\; font-size: 15px\; font-family: CenturyGothic\, Arial\, Helvetica\, sans-serif\; left: auto\; line-height: inherit\; margin: 0px\; max-height: none\; max-width: none\; min-height: initial\; min-width: initial\; opacity: 1\; outline-offset: 0px\; overflow: visible\; padding: 0px\; position: static\; resize: none\; right: auto\; table-layout: auto\; text-overflow: clip\; top: auto\; vertical-align: baseline\; visibility: inherit\; word-break: inherit\; overflow-wrap: inherit\; z-index: auto\; background-image: none\; background-position: initial\; background-size: initial\; background-repeat: initial\; background-attachment: initial\; background-origin: initial\; background-clip: initial\; border: none\; border-collapse: separate\; border-radius: 0px\; height: auto\; width: auto\;" />\n<span style="color: rgb(81\, 83\, 81)\; font-family: CenturyGothic\, Arial\, Helvetica\, sans-serif\; font-size: 15px\;">Would you like to end the struggle to get customers/clients and have a business that really thrives?</span><br style="box-sizing: content-box\; bottom: auto\; clear: none\; color: rgb(81\, 83\, 81)\; content: normal\; direction: inherit\; display: inline\; empty-cells: show\; float: none\; font-variant-numeric: inherit\; font-variant-east-asian: inherit\; font-stretch: inherit\; font-size: 15px\; font-family: CenturyGothic\, Arial\, Helvetica\, sans-serif\; left: auto\; line-height: inherit\; margin: 0px\; max-height: none\; max-width: none\; min-height: initial\; min-width: initial\; opacity: 1\; outline-offset: 0px\; overflow: visible\; padding: 0px\; position: static\; resize: none\; right: auto\; table-layout: auto\; text-overflow: clip\; top: auto\; vertical-align: baseline\; visibility: inherit\; word-break: inherit\; overflow-wrap: inherit\; z-index: auto\; background-image: none\; background-position: initial\; background-size: initial\; background-repeat: initial\; background-attachment: initial\; background-origin: initial\; background-clip: initial\; border: none\; border-collapse: separate\; border-radius: 0px\; height: auto\; width: auto\;" />\n<span style="color: rgb(81\, 83\, 81)\; font-family: CenturyGothic\, Arial\, Helvetica\, sans-serif\; font-size: 15px\;">Are you looking to take your business to the next level of financial success?</span><br style="box-sizing: content-box\; bottom: auto\; clear: none\; color: rgb(81\, 83\, 81)\; content: normal\; direction: inherit\; display: inline\; empty-cells: show\; float: none\; font-variant-numeric: inherit\; font-variant-east-asian: inherit\; font-stretch: inherit\; font-size: 15px\; font-family: CenturyGothic\, Arial\, Helvetica\, sans-serif\; left: auto\; line-height: inherit\; margin: 0px\; max-height: none\; max-width: none\; min-height: initial\; min-width: initial\; opacity: 1\; outline-offset: 0px\; overflow: visible\; padding: 0px\; position: static\; resize: none\; right: auto\; table-layout: auto\; text-overflow: clip\; top: auto\; vertical-align: baseline\; visibility: inherit\; word-break: inherit\; overflow-wrap: inherit\; z-index: auto\; background-image: none\; background-position: initial\; background-size: initial\; background-repeat: initial\; background-attachment: initial\; background-origin: initial\; background-clip: initial\; border: none\; border-collapse: separate\; border-radius: 0px\; height: auto\; width: auto\;" />\n<span style="color: rgb(81\, 83\, 81)\; font-family: CenturyGothic\, Arial\, Helvetica\, sans-serif\; font-size: 15px\;">I use the tools and techniques of coaching with the power and punch of hypnosis founded on the principles of Napoleon Hill.</span><br />\n<br />\n<span style="color: rgb(0\, 0\, 0)\; font-family: tahoma\; font-size: 14px\;">Ribbon Cuttings are a great way to celebrate our&nbsp\;members\, network\, meet fellow Chamber Members and learn something about Longmont businesses.</span>
LOCATION:200 Lincoln St. Longmont\, CO 80501
UID:e.3083.7142
SEQUENCE:3
DTSTAMP:20260426T010302Z
URL:https://members.longmontchamber.org/events/details/ribbon-cutting-zoilita-grant-mindset-for-success-7142
END:VEVENT

END:VCALENDAR
