BEGIN:VCALENDAR
VERSION:2.0
PRODID:-//ChamberMaster//Event Calendar 2.0//EN
METHOD:PUBLISH
X-PUBLISHED-TTL:P3D
REFRESH-INTERVAL:P3D
CALSCALE:GREGORIAN
BEGIN:VEVENT
DTSTART:20190924T220000Z
DTEND:20190924T230000Z
X-MICROSOFT-CDO-ALLDAYEVENT:FALSE
SUMMARY:Ribbon Cuttings: Evolve Health & Wellness
DESCRIPTION:Join us at a Ribbon Cutting for Evolve Health & Wellness!\n\n\n\nEvolve Health and Wellness provides concierge chiropractic care\, nutritional consultation\, perinatal care\, pediatric care\, massage\, sports performance\, and remote online consultations.\n\n\n\nRibbon Cuttings are a great way to celebrate our members\, network\, meet fellow Chamber Members and learn something about Longmont businesses.
X-ALT-DESC;FMTTYPE=text/html:Join us at a Ribbon Cutting for Evolve Health &amp\; Wellness!<br />\n<br />\n<span style="color: rgb(81\, 83\, 81)\; font-family: CenturyGothic\, Arial\, Helvetica\, sans-serif\; font-size: 15px\;">Evolve Health and Wellness provides concierge chiropractic care\, nutritional consultation\, perinatal care\, pediatric care\, massage\, sports performance\, and remote online consultations.</span><br />\n<br />\n<span style="color: rgb(0\, 0\, 0)\; font-family: tahoma\; font-size: 14px\;">Ribbon Cuttings are a great way to celebrate our&nbsp\;members\, network\, meet fellow Chamber Members and learn something about Longmont businesses.</span>
LOCATION:Wibby Brewing 209 Emery St. Longmont\, CO 80501
UID:e.3083.7116
SEQUENCE:3
DTSTAMP:20260426T024322Z
URL:https://members.longmontchamber.org/events/details/ribbon-cuttings-evolve-health-wellness-7116
END:VEVENT

END:VCALENDAR
