BEGIN:VCALENDAR
VERSION:2.0
PRODID:-//ChamberMaster//Event Calendar 2.0//EN
METHOD:PUBLISH
X-PUBLISHED-TTL:P3D
REFRESH-INTERVAL:P3D
CALSCALE:GREGORIAN
BEGIN:VEVENT
DTSTART:20250824T220000Z
DTEND:20250825T000000Z
X-MICROSOFT-CDO-ALLDAYEVENT:FALSE
SUMMARY:RLY ORY
DESCRIPTION:FREE family punk rock!\n\nWhat more could you ever want?\n\nRLY ORY is a sister/sister/dad band hailing from the punk rock mecca of Fort Collins (birthplace of the Descendants\, by the way).\n\nIn the 2 and 1/2 years they've been a band they have played various stages\, festivals\, concert series\, pizza places\, basements\, bowling alleys\, backyards\, and pop-up shows across Colorado.\n\n11-yr old Ophelia (ORY) plays guitar and sings lead\;\n\n13-yr old Ramona (RLY) smashes the drums and sings backup vocals and a few leads\;\n\nYou don't need to know how old dad is\, but he plays pretty great bass and sings backup vocals.\n\nIf you like Green Day\, The Clash\, The Ramones\, and watching the younger generation rock out\, RLY ORY is a must see.
X-ALT-DESC;FMTTYPE=text/html:<div>FREE family punk rock!<br />\nWhat more could you ever want?</div>\n\n<div>RLY ORY is a sister/sister/dad band hailing from the punk rock mecca of Fort Collins (birthplace of the Descendants\, by the way).<br />\nIn the 2 and 1/2 years they&rsquo\;ve been a band they have played various stages\, festivals\, concert series\, pizza places\, basements\, bowling alleys\, backyards\, and pop-up shows across Colorado.<br />\n11-yr old Ophelia (ORY) plays guitar and sings lead\;<br />\n13-yr old Ramona (RLY) smashes the drums and sings backup vocals and a few leads\;<br />\nYou don&rsquo\;t need to know how old dad is\, but he plays pretty great bass and sings backup vocals.<br />\nIf you like Green Day\, The Clash\, The Ramones\, and watching the younger generation rock out\, RLY ORY is a must see.</div>\n
LOCATION:Wibby Brewing
UID:e.3083.13983
SEQUENCE:3
DTSTAMP:20260421T080709Z
URL:https://members.longmontchamber.org/events/details/rly-ory-13983
END:VEVENT

END:VCALENDAR
