BEGIN:VCALENDAR
VERSION:2.0
PRODID:-//ChamberMaster//Event Calendar 2.0//EN
METHOD:PUBLISH
X-PUBLISHED-TTL:P3D
REFRESH-INTERVAL:P3D
CALSCALE:GREGORIAN
BEGIN:VEVENT
DTSTART:20240504T220000Z
DTEND:20240505T020000Z
X-MICROSOFT-CDO-ALLDAYEVENT:FALSE
SUMMARY:Run for the Roses Gala Fundraiser for the Colorado Therapeutic Riding Center
DESCRIPTION:Good afternoon! Does your business support life-changing work in the community? We are excited to announce our upcoming annual gala event on May 4th. Our event is an excellent opportunity for businesses to gain exposure in front of thousands of donors and attendees. As such\, we are currently looking for sponsors and auction donors to support our event. By sponsoring our event\, your business could be featured on our website\, event materials\, and in front of our attendees. I am sharing our sponsorship packet for you to take a look at. Thank you for considering supporting life-changing work in our community!
X-ALT-DESC;FMTTYPE=text/html:<span style="background-color:rgb(255\, 255\, 255)\; color:rgba(0\, 0\, 0\, 0.9)\; font-family:-apple-system\,system-ui\,blinkmacsystemfont\,segoe ui\,roboto\,helvetica neue\,fira sans\,ubuntu\,oxygen\,oxygen sans\,cantarell\,droid sans\,apple color emoji\,segoe ui emoji\,segoe ui emoji\,segoe ui symbol\,lucida grande\,helvetica\,arial\,sans-serif\; font-size:14px">Good afternoon! Does your business support life-changing work in the community? We are excited to announce our upcoming annual gala event on May 4th. Our event is an excellent opportunity for businesses to gain exposure in front of thousands of donors and attendees. As such\, we are currently looking for sponsors and auction donors to support our event. By sponsoring our event\, your business could be featured on our website\, event materials\, and in front of our attendees. I am sharing our sponsorship packet for you to take a look at. Thank you for considering supporting life-changing work in our community!</span>
LOCATION:JCC in Boulder
UID:e.3083.10063
SEQUENCE:3
DTSTAMP:20260422T091125Z
URL:https://members.longmontchamber.org/events/details/run-for-the-roses-gala-fundraiser-for-the-colorado-therapeutic-riding-center-10063
END:VEVENT

END:VCALENDAR
