BEGIN:VCALENDAR
VERSION:2.0
PRODID:-//ChamberMaster//Event Calendar 2.0//EN
METHOD:PUBLISH
X-PUBLISHED-TTL:P3D
REFRESH-INTERVAL:P3D
CALSCALE:GREGORIAN
BEGIN:VEVENT
DTSTART:20200728T143000Z
DTEND:20200728T170000Z
X-MICROSOFT-CDO-ALLDAYEVENT:FALSE
SUMMARY:Sandler Sales Foundations Summer 2020 Cohort
DESCRIPTION:The Foundation of any business is the ability sell.  Sandler's award-winning Sales Foundations 8-week course will guide you on techniques that work\, how to effectively use them\, work with you to reinforce what you've learned\, and push you out of your comfort zone of what you believe the sales process should be.  \n\nAre you ready\, willing\, and able to take make a change?  We are not the perfect fit for everyone and not everyone is qualified to work with us. Contact us today to learn more. \n\n\n\nRemote training is also available for this live course.
X-ALT-DESC;FMTTYPE=text/html:<p>The Foundation of any business is the ability sell.&nbsp\; Sandler&#39\;s award-winning Sales Foundations 8-week course will guide you on techniques that work\, how to effectively use them\, work with you to reinforce what you&#39\;ve learned\, and push you out of your comfort zone of what you believe the sales process should be.&nbsp\;&nbsp\;</p>\n\n<p>Are you ready\, willing\, and able to take make a change?&nbsp\; We are not the perfect fit for everyone and not everyone is qualified to work with us.&nbsp\;Contact us today to learn more.&nbsp\;<br />\n<br />\n<strong><span style="color:#FFFFFF"><span style="background-color:#0000FF">Remote training is also available for this live course.</span></span></strong></p>\n\n<p>&nbsp\;</p>\n
LOCATION:200 East 7th Street\, STE 200 Loveland\, CO 80537
UID:e.3083.7611
SEQUENCE:3
DTSTAMP:20260425T103901Z
URL:https://members.longmontchamber.org/events/details/sandler-sales-foundations-summer-2020-cohort-07-28-2020-7611
END:VEVENT

END:VCALENDAR
