BEGIN:VCALENDAR
VERSION:2.0
PRODID:-//ChamberMaster//Event Calendar 2.0//EN
METHOD:PUBLISH
X-PUBLISHED-TTL:P3D
REFRESH-INTERVAL:P3D
CALSCALE:GREGORIAN
BEGIN:VEVENT
DTSTART:20251207T190000Z
DTEND:20251207T230000Z
X-MICROSOFT-CDO-ALLDAYEVENT:FALSE
SUMMARY:Santa Paws
DESCRIPTION:Santa Paws is coming to Longmont!\n\n\n\nJoin us on Saturday\, December 7th\, at Spice eBikes (724 Main St.) for a free photo of your pup with Santa! It's a fun\, local holiday tradition celebrating the joy our pets bring all year long. Bring your family\, grab a festive photo\, and help spread some holiday cheer   no fees\, just community fun. Sponsored by local Longmont businesses.
X-ALT-DESC;FMTTYPE=text/html:<div>\n<h2><strong>Santa Paws is coming to Longmont!</strong><br />\n<br />\nJoin us on <strong>Saturday\, December 7th</strong>\, at <strong>Spice eBikes (724 Main St.)</strong> for a <em>free photo of your pup with Santa!</em> It&rsquo\;s a fun\, local holiday tradition celebrating the joy our pets bring all year long. Bring your family\, grab a festive photo\, and help spread some holiday cheer &mdash\; no fees\, just community fun. Sponsored by local Longmont businesses.</h2>\n</div>\n
LOCATION:Spice eBikes
UID:e.3083.14635
SEQUENCE:3
DTSTAMP:20260421T015053Z
URL:https://members.longmontchamber.org/events/details/santa-paws-12-07-2025-14635
END:VEVENT

END:VCALENDAR
