BEGIN:VCALENDAR
VERSION:2.0
PRODID:-//ChamberMaster//Event Calendar 2.0//EN
METHOD:PUBLISH
X-PUBLISHED-TTL:P3D
REFRESH-INTERVAL:P3D
CALSCALE:GREGORIAN
BEGIN:VEVENT
DTSTART:20201217T210000Z
DTEND:20201217T223000Z
X-MICROSOFT-CDO-ALLDAYEVENT:FALSE
SUMMARY:SBA Program Overview
DESCRIPTION:An introduction to the Small Business Administration (SBA) and how it can help your small business during the current challenging economic times. In this session you will learn what the SBA offers with: Counseling/Training\, Government Contracting\, Financing\, Disaster Assistance and more. The session will also give a broad overview of 12 different loan guaranty programs offered by the SBA. Presenter: Steve White\,Lender Relations Specialist\, SBA.
X-ALT-DESC;FMTTYPE=text/html:An introduction to the Small Business Administration (SBA) and how it can help your small business during the current challenging economic times. In this session you will learn what the SBA offers with: Counseling/Training\, Government Contracting\, Financing\, Disaster Assistance and more. The session will also give a broad overview of 12 different loan guaranty programs offered by the SBA. Presenter: Steve White\,Lender Relations Specialist\, SBA.
LOCATION:Zoom login information will be sent to your email after registration.
UID:e.3083.7701
SEQUENCE:3
DTSTAMP:20260425T021233Z
URL:https://members.longmontchamber.org/events/details/sba-program-overview-7701
END:VEVENT

END:VCALENDAR
