BEGIN:VCALENDAR
VERSION:2.0
PRODID:-//ChamberMaster//Event Calendar 2.0//EN
METHOD:PUBLISH
X-PUBLISHED-TTL:P3D
REFRESH-INTERVAL:P3D
CALSCALE:GREGORIAN
BEGIN:VEVENT
DTSTART:20250408T151500Z
DTEND:20250408T164500Z
X-MICROSOFT-CDO-ALLDAYEVENT:FALSE
SUMMARY:SCLA Mock Interviews
DESCRIPTION:Silver Creek Leadership Academy's 10th-grade Community Leadership class is hosting Mock Interviews and needs local leaders to volunteer as interviewers.\n\n  Date: Tuesday\, April 8th\n\n  Location: Silver Creek HS\, Longmont\n\n  Time: 9:15 10:45 AM\n\nStudents have prepared r sum s and are applying for entry-level jobs (e.g.\, Ice Cream Scooper at Sweet Cow). You'll interview a small group of 3 5 students\, provide feedback\, and rotate through each. We'll provide sample questions\, but you're welcome to ask your own.\n\nIt's a fun\, easy way to support students! Sign up here SCLA Mock Interviews and we'll follow up with details.\n\nQuestions? Contact me at adams_carrie@svvsd.org
X-ALT-DESC;FMTTYPE=text/html:Silver Creek Leadership Academy&rsquo\;s 10th-grade Community Leadership class is hosting&nbsp\;<strong>Mock Interviews</strong>&nbsp\;and needs local leaders to volunteer as interviewers.<br />\n<span style="font-family:segoe ui emoji\,sans-serif\;">&#128197\;</span>&nbsp\;<strong>Date:</strong>&nbsp\;Tuesday\, April 8th<br />\n<span style="font-family:segoe ui emoji\,sans-serif\;">&#128205\;</span>&nbsp\;<strong>Location:</strong>&nbsp\;Silver Creek HS\, Longmont<br />\n<span style="font-family:segoe ui emoji\,sans-serif\;">&#9200\;</span>&nbsp\;<strong>Time:</strong>&nbsp\;9:15&ndash\;10:45 AM<br />\nStudents have prepared r&eacute\;sum&eacute\;s and are applying for entry-level jobs (e.g.\, Ice Cream Scooper at Sweet Cow). You&rsquo\;ll interview a small group of 3&ndash\;5 students\, provide feedback\, and rotate through each. We&rsquo\;ll provide sample questions\, but you&rsquo\;re welcome to ask your own.<br />\nIt&rsquo\;s a fun\, easy way to support students!&nbsp\;<strong>Sign up here&nbsp\;<a href="https://docs.google.com/forms/d/e/1FAIpQLSei1apTjFMQH21uH4uFn2AnRQwHUOe3qrEguxFRnCN3OzuxzQ/viewform" title="https://docs.google.com/forms/d/e/1FAIpQLSei1apTjFMQH21uH4uFn2AnRQwHUOe3qrEguxFRnCN3OzuxzQ/viewform">SCLA Mock Interviews</a></strong>&nbsp\;and we&rsquo\;ll follow up with details.<br />\nQuestions? Contact me at&nbsp\;<strong>adams_carrie@svvsd.org</strong>
LOCATION:Silver Creek High School
UID:e.3083.13023
SEQUENCE:3
DTSTAMP:20260421T155955Z
URL:https://members.longmontchamber.org/events/details/scla-mock-interviews-13023
END:VEVENT

END:VCALENDAR
