BEGIN:VCALENDAR
VERSION:2.0
PRODID:-//ChamberMaster//Event Calendar 2.0//EN
METHOD:PUBLISH
X-PUBLISHED-TTL:P3D
REFRESH-INTERVAL:P3D
CALSCALE:GREGORIAN
BEGIN:VEVENT
DTSTART:20251213T190000Z
DTEND:20251214T000000Z
X-MICROSOFT-CDO-ALLDAYEVENT:FALSE
SUMMARY:Second Saturday Open House at Longmont Public Media
DESCRIPTION:Discover the creative possibilities at Longmont Public Media during our Open House event!\n\nEvent Schedule:\n\n\n\n12:00 PM   1:00 PM: Guided Tour\n\nExplore our facilities and learn about the incredible resources available at Longmont Public Media. Get an inside look at our studios\, equipment\, and programs that help bring creativity to life.\n\n1:00 PM   5:00 PM: Open Studio Time:\n\nAfter the tour\, enjoy open studio time where the public can engage hands-on with our spaces and see what makes LPM a hub for media production and creativity.\n\nWhether you're curious about creating your own videos\, podcasts\, or livestreams or just want to learn more about what we offer this is the perfect opportunity to see it all in action!\n\nHave questions? Email us at hello@longmontpublicmedia.org. We can't wait to show you what you can create here!
X-ALT-DESC;FMTTYPE=text/html:<p>Discover the creative possibilities at Longmont Public Media during our Open House event!</p>\n\n<p>Event Schedule:<br />\n<br />\n12:00 PM &ndash\; 1:00 PM: Guided Tour<br />\nExplore our facilities and learn about the incredible resources available at Longmont Public Media. Get an inside look at our studios\, equipment\, and programs that help bring creativity to life.</p>\n\n<p>1:00 PM &ndash\; 5:00 PM: Open Studio Time:<br />\nAfter the tour\, enjoy open studio time where the public can engage hands-on with our spaces and see what makes LPM a hub for media production and creativity.</p>\n\n<p>Whether you&rsquo\;re curious about creating your own videos\, podcasts\, or livestreams&mdash\;or just want to learn more about what we offer&mdash\;this is the perfect opportunity to see it all in action!</p>\n\n<p>Have questions? Email us at <a href="mailto:hello@longmontpublicmedia.org">hello@longmontpublicmedia.org</a>. We can&rsquo\;t wait to show you what you can create here!</p>\n
LOCATION:Longmont Public Media
UID:e.3083.10784
SEQUENCE:3
DTSTAMP:20260421T015841Z
URL:https://members.longmontchamber.org/events/details/second-saturday-open-house-at-longmont-public-media-12-13-2025-10784
END:VEVENT

END:VCALENDAR
