BEGIN:VCALENDAR
VERSION:2.0
PRODID:-//ChamberMaster//Event Calendar 2.0//EN
METHOD:PUBLISH
X-PUBLISHED-TTL:P3D
REFRESH-INTERVAL:P3D
CALSCALE:GREGORIAN
BEGIN:VEVENT
DTSTART:20250420T210000Z
DTEND:20250420T220000Z
X-MICROSOFT-CDO-ALLDAYEVENT:FALSE
SUMMARY:Senior Fraud Prevention Class
DESCRIPTION:Healthy Living isn't just about your clinical well-being\n\n\n\nJoin us for food\, drinks and a MUST HEAR information class on Fraud Prevention!  We will talk about different types of scams\, identifying them\, and how to avoid them.
X-ALT-DESC;FMTTYPE=text/html:<br />\n<span style="font-size:22px\;"><strong>Healthy Living isn&#39\;t just about your clinical well-being</strong><br />\n<br />\nJoin us for food\, drinks and a MUST HEAR information class on Fraud Prevention!&nbsp\; We will talk about different types of scams\, identifying them\, and how to avoid them.</span>
LOCATION:Hover Senior Living Community - Hover Manor Cafe
UID:e.3083.12680
SEQUENCE:3
DTSTAMP:20260421T142739Z
URL:https://members.longmontchamber.org/events/details/senior-fraud-prevention-class-12680
END:VEVENT

END:VCALENDAR
