BEGIN:VCALENDAR
VERSION:2.0
PRODID:-//ChamberMaster//Event Calendar 2.0//EN
METHOD:PUBLISH
X-PUBLISHED-TTL:P3D
REFRESH-INTERVAL:P3D
CALSCALE:GREGORIAN
BEGIN:VEVENT
DTSTART:20220828T170000Z
DTEND:20220828T210000Z
X-MICROSOFT-CDO-ALLDAYEVENT:FALSE
SUMMARY:Shine Provision's Country Brunch Buffet with 5-Foot Betty!
DESCRIPTION:BUFFET STYLE FOOD- $35 Ticket Per Adult.\n\nKIDS EAT FREE under 10 per One Adult Ticket. \n\n\n\nButtermilk Fried Chicken\n\nMashed Potatoes\n\nMac and Cheese\n\nGreen Beans\n\nFried Green Tomatoes +\n\nchipotle aioli\n\nDeviled eggs + bacon + chili oil\n\n\n\nBeverages INCLUDED \n\nCoffee \n\nJuice\n\n\n\nAlcoholic beverages can be purchased - mimosa\, bloody mary\, various beer\, various wine
X-ALT-DESC;FMTTYPE=text/html:<p>BUFFET STYLE FOOD- $35 Ticket Per Adult.<br />\nKIDS EAT FREE under 10 per One Adult Ticket.&nbsp\;<br />\n<br />\nButtermilk Fried Chicken<br />\nMashed Potatoes<br />\nMac and Cheese<br />\nGreen Beans<br />\nFried Green Tomatoes +<br />\nchipotle aioli<br />\nDeviled eggs + bacon + chili&nbsp\;oil<br />\n<br />\nBeverages INCLUDED&nbsp\;<br />\nCoffee&nbsp\;<br />\nJuice</p>\n\n<p><br />\nAlcoholic beverages can be purchased - mimosa\, bloody mary\, various beer\, various wine&nbsp\;</p>\n
LOCATION:The Times Collaborative 338 Main St Longmont\, CO
UID:e.3083.8835
SEQUENCE:3
DTSTAMP:20260423T180956Z
URL:https://members.longmontchamber.org/events/details/shine-provision-s-country-brunch-buffet-with-5-foot-betty-8835
END:VEVENT

END:VCALENDAR
